BEGIN:VCALENDAR
VERSION:2.0
PRODID:-//Moving Seniors Forward - ECPv6.15.3//NONSGML v1.0//EN
CALSCALE:GREGORIAN
METHOD:PUBLISH
X-ORIGINAL-URL:https://movingseniorsforward.org
X-WR-CALDESC:Events for Moving Seniors Forward
REFRESH-INTERVAL;VALUE=DURATION:PT1H
X-Robots-Tag:noindex
X-PUBLISHED-TTL:PT1H
BEGIN:VTIMEZONE
TZID:UTC
BEGIN:STANDARD
TZOFFSETFROM:+0000
TZOFFSETTO:+0000
TZNAME:UTC
DTSTART:20250101T000000
END:STANDARD
END:VTIMEZONE
BEGIN:VEVENT
DTSTART;TZID=UTC:20251125T130000
DTEND;TZID=UTC:20251125T140000
DTSTAMP:20260423T234724
CREATED:20251003T231710Z
LAST-MODIFIED:20251003T231710Z
UID:113851-1764075600-1764079200@movingseniorsforward.org
SUMMARY:Senior Nutrition Counseling
DESCRIPTION:Meet with Patti Jaeger\, Registered Dietitian with Ventura County Area Agency on Aging\, to discuss your specific health needs. Topics include controlling blood pressure\, lowering cholesterol\, enhancing bone health and eating healthy on a budget. Participants must be age 60 or older. Call 805-388-1952 to book an appointment. No charge. Appointments are held at Camarillo Health Care District\, 3639 Las Posas Road\, Camarillo.
URL:https://movingseniorsforward.org/event/senior-nutrition-counseling-3/
LOCATION:Camarillo Health Care District\, 3639 Las Posas Road\, Camarillo\, CA\, 93010\, United States
CATEGORIES:Senior Nutrition Counseling
ORGANIZER;CN="Camarillo Health Care District":MAILTO:micheller@camhealth.com
END:VEVENT
END:VCALENDAR