BEGIN:VCALENDAR
VERSION:2.0
PRODID:-//Moving Seniors Forward - ECPv6.15.3//NONSGML v1.0//EN
CALSCALE:GREGORIAN
METHOD:PUBLISH
X-ORIGINAL-URL:https://movingseniorsforward.org
X-WR-CALDESC:Events for Moving Seniors Forward
REFRESH-INTERVAL;VALUE=DURATION:PT1H
X-Robots-Tag:noindex
X-PUBLISHED-TTL:PT1H
BEGIN:VTIMEZONE
TZID:UTC
BEGIN:STANDARD
TZOFFSETFROM:+0000
TZOFFSETTO:+0000
TZNAME:UTC
DTSTART:20240101T000000
END:STANDARD
END:VTIMEZONE
BEGIN:VEVENT
DTSTART;TZID=UTC:20240312T123000
DTEND;TZID=UTC:20240312T140000
DTSTAMP:20260425T133728
CREATED:20240226T213216Z
LAST-MODIFIED:20240226T213216Z
UID:113144-1710246600-1710252000@movingseniorsforward.org
SUMMARY:Webinar: Advances in the diagnosis and treatment of Alzheimer's disease
DESCRIPTION:Livingston Memorial Visiting Nurse Association and Hospice will feature a webinar by Dr. Lanyard K. Dial\, medical director at Livingston\, on the topic of Alzheimer’s disease. He will talk about several significant medical advances that are giving hope to patients. The virtual presentation is at 12:30 p.m. on March 12. For more information or to register\, call 805-642-0239\, ext. 641.
URL:https://movingseniorsforward.org/event/webinar-advances-in-the-diagnosis-and-treatment-of-alzheimers-disease/
LOCATION:CA
CATEGORIES:Dementia
END:VEVENT
END:VCALENDAR