BEGIN:VCALENDAR
VERSION:2.0
PRODID:-//Moving Seniors Forward - ECPv6.15.3//NONSGML v1.0//EN
CALSCALE:GREGORIAN
METHOD:PUBLISH
X-WR-CALNAME:Moving Seniors Forward
X-ORIGINAL-URL:https://movingseniorsforward.org
X-WR-CALDESC:Events for Moving Seniors Forward
REFRESH-INTERVAL;VALUE=DURATION:PT1H
X-Robots-Tag:noindex
X-PUBLISHED-TTL:PT1H
BEGIN:VTIMEZONE
TZID:UTC
BEGIN:STANDARD
TZOFFSETFROM:+0000
TZOFFSETTO:+0000
TZNAME:UTC
DTSTART:20240101T000000
END:STANDARD
END:VTIMEZONE
BEGIN:VEVENT
DTSTART;TZID=UTC:20240122T120000
DTEND;TZID=UTC:20240122T133000
DTSTAMP:20260425T150821
CREATED:20231130T204913Z
LAST-MODIFIED:20231130T204913Z
UID:112985-1705924800-1705930200@movingseniorsforward.org
SUMMARY:Elder Legal Answers Your Questions On ...
DESCRIPTION:Join Elder Legal attorneys at the Camarillo Health Care District for a series of informational presentations on issues you care about. The talks will take place from noon to 1:30 p.m. Jan. 22\, Feb. 26 and March 25 in Building F at 3639 E. Las Posas Road in Camarillo. There is no cost. Register in advance by calling 805-388-1952.
URL:https://movingseniorsforward.org/event/elder-legal-answers-your-questions-on-7/
LOCATION:Camarillo Health Care District\, 3639 Las Posas Road\, Camarillo\, CA\, 93010\, United States
ORGANIZER;CN="Camarillo Health Care District":MAILTO:micheller@camhealth.com
END:VEVENT
END:VCALENDAR