BEGIN:VCALENDAR
VERSION:2.0
PRODID:-//Moving Seniors Forward - ECPv6.15.3//NONSGML v1.0//EN
CALSCALE:GREGORIAN
METHOD:PUBLISH
X-WR-CALNAME:Moving Seniors Forward
X-ORIGINAL-URL:https://movingseniorsforward.org
X-WR-CALDESC:Events for Moving Seniors Forward
REFRESH-INTERVAL;VALUE=DURATION:PT1H
X-Robots-Tag:noindex
X-PUBLISHED-TTL:PT1H
BEGIN:VTIMEZONE
TZID:UTC
BEGIN:STANDARD
TZOFFSETFROM:+0000
TZOFFSETTO:+0000
TZNAME:UTC
DTSTART:20240101T000000
END:STANDARD
END:VTIMEZONE
BEGIN:VEVENT
DTSTART;TZID=UTC:20240312T123000
DTEND;TZID=UTC:20240312T140000
DTSTAMP:20260425T103041
CREATED:20240226T213216Z
LAST-MODIFIED:20240226T213216Z
UID:113144-1710246600-1710252000@movingseniorsforward.org
SUMMARY:Webinar: Advances in the diagnosis and treatment of Alzheimer's disease
DESCRIPTION:Livingston Memorial Visiting Nurse Association and Hospice will feature a webinar by Dr. Lanyard K. Dial\, medical director at Livingston\, on the topic of Alzheimer’s disease. He will talk about several significant medical advances that are giving hope to patients. The virtual presentation is at 12:30 p.m. on March 12. For more information or to register\, call 805-642-0239\, ext. 641.
URL:https://movingseniorsforward.org/event/webinar-advances-in-the-diagnosis-and-treatment-of-alzheimers-disease/
LOCATION:CA
CATEGORIES:Dementia
END:VEVENT
BEGIN:VEVENT
DTSTART;TZID=UTC:20240314T143000
DTEND;TZID=UTC:20240314T153000
DTSTAMP:20260425T103041
CREATED:20231204T182215Z
LAST-MODIFIED:20231204T182215Z
UID:113019-1710426600-1710430200@movingseniorsforward.org
SUMMARY:Exercises for Healthy Aging
DESCRIPTION:Join Ric Esguerra\, PT and DPT\, a Livingston PAS physical therapist\, for “Exercises for Healthy Aging.” The informative seminar will be held 2:30-3:30 p.m.. March 14 at Laurel Heights\, 13960 Peach Hill Road in Moorpark. He will cover conditioning training\, balance exercises and strengthening coaching. Call 805-292-0700 to reserve your seat. Refreshments will be served. This seminar is free\, but registration is required.
URL:https://movingseniorsforward.org/event/exercises-for-healthy-aging/
LOCATION:Laurel Heights\, 13960 Peach Hill Road\, Moorpark\, United States
END:VEVENT
BEGIN:VEVENT
DTSTART;TZID=UTC:20240325T120000
DTEND;TZID=UTC:20240325T133000
DTSTAMP:20260425T103041
CREATED:20231130T205307Z
LAST-MODIFIED:20231130T205307Z
UID:112990-1711368000-1711373400@movingseniorsforward.org
SUMMARY:Elder Legal Answers Your Questions On ...
DESCRIPTION:Join Elder Legal attorneys at the Camarillo Health Care District for a series of informational presentations on issues you care about. A talk will take place from noon to 1:30 p.m. March 25 in Building F at 3639 E. Las Posas Road in Camarillo. There is no cost. Register in advance by calling 805-388-1952.
URL:https://movingseniorsforward.org/event/elder-legal-answers-your-questions-on-9/
LOCATION:Camarillo Health Care District\, 3639 Las Posas Road\, Camarillo\, CA\, 93010\, United States
ORGANIZER;CN="Camarillo Health Care District":MAILTO:micheller@camhealth.com
END:VEVENT
END:VCALENDAR