BEGIN:VCALENDAR
VERSION:2.0
PRODID:-//Moving Seniors Forward - ECPv6.15.3//NONSGML v1.0//EN
CALSCALE:GREGORIAN
METHOD:PUBLISH
X-WR-CALNAME:Moving Seniors Forward
X-ORIGINAL-URL:https://movingseniorsforward.org
X-WR-CALDESC:Events for Moving Seniors Forward
REFRESH-INTERVAL;VALUE=DURATION:PT1H
X-Robots-Tag:noindex
X-PUBLISHED-TTL:PT1H
BEGIN:VTIMEZONE
TZID:UTC
BEGIN:STANDARD
TZOFFSETFROM:+0000
TZOFFSETTO:+0000
TZNAME:UTC
DTSTART:20240101T000000
END:STANDARD
END:VTIMEZONE
BEGIN:VEVENT
DTSTART;TZID=UTC:20240215T143000
DTEND;TZID=UTC:20240215T153000
DTSTAMP:20260425T120204
CREATED:20231204T181836Z
LAST-MODIFIED:20231204T181836Z
UID:113016-1708007400-1708011000@movingseniorsforward.org
SUMMARY:The Aging Brain and Its Diseases
DESCRIPTION:Join Dr. Lanyard K. Dial\, Livingston Memorial Visiting Nurses Association & Hospice medical director\, 2:30-3:30 p.m. at Laurel Heights\, 13960 Peach Hill Road in Moorpark\, for this free\, informative seminar. RSVP by calling 805-292-0700. Dr. Dial will review brain structure and function\, discuss the effects of aging on the brain\, provide an overviews of the common diseases of the brain\, explain memory\, cognitive loss and dementia\, and identify the effects of medications on brain function.
URL:https://movingseniorsforward.org/event/the-aging-brain-and-its-diseases/
LOCATION:Laurel Heights\, 13960 Peach Hill Road\, Moorpark\, United States
END:VEVENT
BEGIN:VEVENT
DTSTART;TZID=UTC:20240226T120000
DTEND;TZID=UTC:20240226T133000
DTSTAMP:20260425T120204
CREATED:20231130T205120Z
LAST-MODIFIED:20231130T205120Z
UID:112987-1708948800-1708954200@movingseniorsforward.org
SUMMARY:Elder Legal Answers Your Questions On ...
DESCRIPTION:Join Elder Legal attorneys at the Camarillo Health Care District for a series of informational presentations on issues you care about. The talks will take place from noon to 1:30 p.m. Feb. 26 and March 25 in Building F at 3639 E. Las Posas Road in Camarillo. There is no cost. Register in advance by calling 805-388-1952.
URL:https://movingseniorsforward.org/event/elder-legal-answers-your-questions-on-8/
LOCATION:Camarillo Health Care District\, 3639 Las Posas Road\, Camarillo\, CA\, 93010\, United States
ORGANIZER;CN="Camarillo Health Care District":MAILTO:micheller@camhealth.com
END:VEVENT
END:VCALENDAR