BEGIN:VCALENDAR
VERSION:2.0
PRODID:-//Moving Seniors Forward - ECPv6.15.3//NONSGML v1.0//EN
CALSCALE:GREGORIAN
METHOD:PUBLISH
X-WR-CALNAME:Moving Seniors Forward
X-ORIGINAL-URL:https://movingseniorsforward.org
X-WR-CALDESC:Events for Moving Seniors Forward
REFRESH-INTERVAL;VALUE=DURATION:PT1H
X-Robots-Tag:noindex
X-PUBLISHED-TTL:PT1H
BEGIN:VTIMEZONE
TZID:UTC
BEGIN:STANDARD
TZOFFSETFROM:+0000
TZOFFSETTO:+0000
TZNAME:UTC
DTSTART:20260101T000000
END:STANDARD
END:VTIMEZONE
BEGIN:VEVENT
DTSTART;TZID=UTC:20260326T120000
DTEND;TZID=UTC:20260326T140000
DTSTAMP:20260423T160319
CREATED:20260220T235304Z
LAST-MODIFIED:20260220T235304Z
UID:113957-1774526400-1774533600@movingseniorsforward.org
SUMMARY:Moving Seniors Forward Lunch Meeting
DESCRIPTION:Established in 2008\, Moving Seniors Forward – Community Resource Group is your trusted resource to dedicated and compassionate professionals who are committed to providing guidance and information to enhance the lives of seniors and their families in our community. Moving Seniors Forward offers a wide spectrum of services to meet the various needs of people during life’s transitions. The group meets the fourth Thursday of the month at noon\, except in November. The November meeting is held the third Thursday of the month. December’s meeting is replaced with a holiday party in the evening. To join the organization or be a guest at our meeting to see what we’re all about\, call 805-558-8157\nor email movingseniorsforward@gmail.com \nMoving Seniors Forward is a not-for-profit 501 (c)(3) organization.\nDonations are tax deductible. Our tax ID number is 30-0678453 \nMoving Seniors Forward – Community Resource Group offers: \n1) Access to each group member who:\na. Has knowledge and experience to counsel you through major lifestyle transitions\nb. Assists in assessing your current living needs\, and together developing an overall plan for your future.\nc. Provides valuable options and reliable referrals to senior service providers. \n2) Educational Seminars \n3) Special Events \nFor more information\, questions\, or to receive a printed copy of our directory\, please feel free to contact us at: \nMoving Seniors Forward – Community Resource Group \nAttn: Linda Archie & Bob Triplett\n2393 Townsgate Road\, Suite 201\, Westlake Village\, CA 93161\n805-558-8157\nmovingseniorsforward@gmail.com
URL:https://movingseniorsforward.org/event/moving-seniors-forward-lunch-meeting-2/
LOCATION:Equity Union\, 4353 Park Terrace Drive #100\, Westlake Village\, 91361\, United States
CATEGORIES:Moving Seniors Forward meeting
ORGANIZER;CN="Moving Seniors Forward":MAILTO:movingseniorsforward@gmail.com
END:VEVENT
END:VCALENDAR