BEGIN:VCALENDAR
VERSION:2.0
PRODID:-//Moving Seniors Forward - ECPv6.15.3//NONSGML v1.0//EN
CALSCALE:GREGORIAN
METHOD:PUBLISH
X-WR-CALNAME:Moving Seniors Forward
X-ORIGINAL-URL:https://movingseniorsforward.org
X-WR-CALDESC:Events for Moving Seniors Forward
REFRESH-INTERVAL;VALUE=DURATION:PT1H
X-Robots-Tag:noindex
X-PUBLISHED-TTL:PT1H
BEGIN:VTIMEZONE
TZID:UTC
BEGIN:STANDARD
TZOFFSETFROM:+0000
TZOFFSETTO:+0000
TZNAME:UTC
DTSTART:20260101T000000
END:STANDARD
END:VTIMEZONE
BEGIN:VEVENT
DTSTART;TZID=UTC:20260219T100000
DTEND;TZID=UTC:20260219T110000
DTSTAMP:20260423T202933
CREATED:20260211T180332Z
LAST-MODIFIED:20260211T180332Z
UID:113941-1771495200-1771498800@movingseniorsforward.org
SUMMARY:Intro VR: Mindfulness & Meditation
DESCRIPTION:Join us for an opportunity to relax in this virtual reality class where you’ll focus on being intensely aware of what you’re sensing and feeling in the moment\, without interpretation or judgment. Use breathing methods\, guided imagery and other practices to relax the body and mind to help reduce stress while in a serene 3D environment. \nMeet 10-11 a.m. Thursday\, Feb. 19. \nCost: $5  (non-district residents add $4) \nCall 805-388-1952. The class is held on our campus\, 3639 Las Posas Road\, in Camarillo.
URL:https://movingseniorsforward.org/event/intro-vr-mindfulness-meditation/
LOCATION:Camarillo Health Care District\, 3639 Las Posas Road\, Camarillo\, CA\, 93010\, United States
CATEGORIES:Classes,Virtual Reality
ORGANIZER;CN="Camarillo Health Care District":MAILTO:micheller@camhealth.com
END:VEVENT
END:VCALENDAR