BEGIN:VCALENDAR
VERSION:2.0
PRODID:-//Moving Seniors Forward - ECPv6.15.3//NONSGML v1.0//EN
CALSCALE:GREGORIAN
METHOD:PUBLISH
X-WR-CALNAME:Moving Seniors Forward
X-ORIGINAL-URL:https://movingseniorsforward.org
X-WR-CALDESC:Events for Moving Seniors Forward
REFRESH-INTERVAL;VALUE=DURATION:PT1H
X-Robots-Tag:noindex
X-PUBLISHED-TTL:PT1H
BEGIN:VTIMEZONE
TZID:UTC
BEGIN:STANDARD
TZOFFSETFROM:+0000
TZOFFSETTO:+0000
TZNAME:UTC
DTSTART:20260101T000000
END:STANDARD
END:VTIMEZONE
BEGIN:VEVENT
DTSTART;TZID=UTC:20260522T133000
DTEND;TZID=UTC:20260522T150000
DTSTAMP:20260423T172925
CREATED:20260421T212621Z
LAST-MODIFIED:20260421T212621Z
UID:114073-1779456600-1779462000@movingseniorsforward.org
SUMMARY:Presentation: New to Medicare\, Turning 65 or Retiring?
DESCRIPTION:Join the Health Insurance Counseling and Advocacy program (HICAP)\, part of the Ventura County Area Agency on Aging (VCAAA) for a presentation 1:30-3 p.m. May 22 on “New to Medicare: Turning 65 or Retiring?” The talk will be held at Camarillo Health Care District\, 3639 Las Posas Road\,  Building F\, Sequoia Rooms\, in Camarillo. For more information\, call 805-477-7300.
URL:https://movingseniorsforward.org/event/presentation-new-to-medicare-turning-65-or-retiring-2/
LOCATION:Camarillo Health Care District\, 3639 Las Posas Road\, Camarillo\, CA\, 93010\, United States
CATEGORIES:HICAP,Medicare counseling
ORGANIZER;CN="Camarillo Health Care District":MAILTO:micheller@camhealth.com
END:VEVENT
END:VCALENDAR