BEGIN:VCALENDAR
VERSION:2.0
PRODID:-//Moving Seniors Forward - ECPv6.15.3//NONSGML v1.0//EN
CALSCALE:GREGORIAN
METHOD:PUBLISH
X-WR-CALNAME:Moving Seniors Forward
X-ORIGINAL-URL:https://movingseniorsforward.org
X-WR-CALDESC:Events for Moving Seniors Forward
REFRESH-INTERVAL;VALUE=DURATION:PT1H
X-Robots-Tag:noindex
X-PUBLISHED-TTL:PT1H
BEGIN:VTIMEZONE
TZID:UTC
BEGIN:STANDARD
TZOFFSETFROM:+0000
TZOFFSETTO:+0000
TZNAME:UTC
DTSTART:20250101T000000
END:STANDARD
END:VTIMEZONE
BEGIN:VEVENT
DTSTART;TZID=UTC:20250703T090000
DTEND;TZID=UTC:20250703T120000
DTSTAMP:20260425T202404
CREATED:20250530T231836Z
LAST-MODIFIED:20250530T231836Z
UID:113674-1751533200-1751544000@movingseniorsforward.org
SUMMARY:Medicare Counseling (HICAP)
DESCRIPTION:Health Insurance Counseling & Advocacy Program registered counselors offer appointments between 9 a.m. and noon on the first and third Thursdays of the month. They provide free\, unbiased options counseling to Medicare beneficiaries. Assistance is available for Original Medicare\, Medicare Advantage\, Medigap\, Part D Prescription Drug Plans. HICAP provides help with billing problems\, benefits screening\, enrollment\, and Long Term Care Insurance. Call 805-388-1952 for an appointment on Camarillo Health Care District’s campus\, 3639 Las Posas Road\, Camarillo.
URL:https://movingseniorsforward.org/event/medicare-counseling-hicap/
LOCATION:Camarillo Health Care District\, 3639 Las Posas Road\, Camarillo\, CA\, 93010\, United States
CATEGORIES:Medicare counseling
ORGANIZER;CN="Camarillo Health Care District":MAILTO:micheller@camhealth.com
END:VEVENT
BEGIN:VEVENT
DTSTART;TZID=UTC:20250718T133000
DTEND;TZID=UTC:20250718T150000
DTSTAMP:20260425T202404
CREATED:20250626T185444Z
LAST-MODIFIED:20250626T185521Z
UID:113709-1752845400-1752850800@movingseniorsforward.org
SUMMARY:Presentation: Programs that can save you money
DESCRIPTION:Join the Health Insurance Counseling and Advocacy program (HICAP)\, part of the Ventura County Area Agency on Aging (VCAAA) for a presentation 1:30-3 p.m. July 18 on “Programs that Can Save You Money.” The talk will be held at Camarillo Health Care District\, 3639 Las Posas Road\,  Building F\, Sequoia Rooms\, in Camarillo. For more information\, call 805-477-7300.
URL:https://movingseniorsforward.org/event/presentation-programs-that-can-save-you-money/
LOCATION:Camarillo Health Care District\, 3639 Las Posas Road\, Camarillo\, CA\, 93010\, United States
CATEGORIES:HICAP,Medicare counseling,Medicare presentation
ORGANIZER;CN="Camarillo Health Care District":MAILTO:micheller@camhealth.com
END:VEVENT
END:VCALENDAR