BEGIN:VCALENDAR
VERSION:2.0
PRODID:-//Moving Seniors Forward - ECPv6.15.3//NONSGML v1.0//EN
CALSCALE:GREGORIAN
METHOD:PUBLISH
X-ORIGINAL-URL:https://movingseniorsforward.org
X-WR-CALDESC:Events for Moving Seniors Forward
REFRESH-INTERVAL;VALUE=DURATION:PT1H
X-Robots-Tag:noindex
X-PUBLISHED-TTL:PT1H
BEGIN:VTIMEZONE
TZID:UTC
BEGIN:STANDARD
TZOFFSETFROM:+0000
TZOFFSETTO:+0000
TZNAME:UTC
DTSTART:20250101T000000
END:STANDARD
END:VTIMEZONE
BEGIN:VEVENT
DTSTART;TZID=UTC:20250501T143000
DTEND;TZID=UTC:20250501T153000
DTSTAMP:20260424T072822
CREATED:20250415T224201Z
LAST-MODIFIED:20250415T224201Z
UID:113620-1746109800-1746113400@movingseniorsforward.org
SUMMARY:Medical Presentation: Addressing the Stigma of Addiction
DESCRIPTION:Attend a free\, informational presentation by Dr. Jonathan Shirman\, a board-certified physician specializing in both family medicine and addiction medicine at Community Memorial Healthcare. His  presentation will take place 2:30-3:30 p.m. on May 1 at Camarillo Health Care District\, 3639 Las Posas Road in Camarillo. \nAddiction is often shrouded in stigma\, leading to misconceptions and barriers to treatment. This presentation will explore the nature of addiction\, the impact of stigma\, and the vital role of addiction medicine in addressing these challenges.  By promoting understanding of addiction as a medical condition and emphasizing the importance of addiction medicine\, Dr. Shirman says he can create a more inclusive environment that encourages individuals to seek help without fear of judgment. \nDr. Shirman\, who practices at Community Memorial Healthcare\, earned his degree from Lake Erie College of Osteopathic Medicine. With advanced training in addiction medicine\, he is adept at evaluating\, diagnosing\, and treating individuals facing substance abuse disorders. \nThe talk will be held in the District’s Sequoia Rooms\, Building F. Pre-registration is required by calling 805-388-1952. Seating is limited.
URL:https://movingseniorsforward.org/event/medical-presentation-addressing-the-stigma-of-addiction/
LOCATION:Camarillo Health Care District\, 3639 Las Posas Road\, Camarillo\, CA\, 93010\, United States
CATEGORIES:Health and wellness,Medical presentation,Mental health
ORGANIZER;CN="Camarillo Health Care District":MAILTO:micheller@camhealth.com
END:VEVENT
BEGIN:VEVENT
DTSTART;TZID=UTC:20250507T123000
DTEND;TZID=UTC:20250507T140000
DTSTAMP:20260424T072822
CREATED:20250415T224503Z
LAST-MODIFIED:20250415T224503Z
UID:113622-1746621000-1746626400@movingseniorsforward.org
SUMMARY:Medical Presentation: Robotic-assisted knee surgery
DESCRIPTION:Dr. Petros Frousiakis of Community Memorial Healthcare will present “Inside Robotic-Assisted Knee Surgery” from 12:30 to 2 p.m. on May 7 at Camarillo Health Care District\, 3639 Las Posas Road in Camarillo. \nThis free informational presentation will touch on the technology behind robotic systems and review clinical data comparing robotic-assisted and conventional techniques\, patient selection criteria\, as well as postoperative rehabilitation considerations. \nAttendees are expected to gain valuable insights into how this technology is shaping the future of knee replacement surgery. \nSeating is limited. Call 805-388-1952 to register.
URL:https://movingseniorsforward.org/event/medical-presentation-robotic-assisted-knee-surgery/
LOCATION:Camarillo Health Care District\, 3639 Las Posas Road\, Camarillo\, CA\, 93010\, United States
CATEGORIES:Health and wellness,Medicare presentation
ORGANIZER;CN="Camarillo Health Care District":MAILTO:micheller@camhealth.com
END:VEVENT
END:VCALENDAR