BEGIN:VCALENDAR
VERSION:2.0
PRODID:-//Moving Seniors Forward - ECPv6.15.3//NONSGML v1.0//EN
CALSCALE:GREGORIAN
METHOD:PUBLISH
X-ORIGINAL-URL:https://movingseniorsforward.org
X-WR-CALDESC:Events for Moving Seniors Forward
REFRESH-INTERVAL;VALUE=DURATION:PT1H
X-Robots-Tag:noindex
X-PUBLISHED-TTL:PT1H
BEGIN:VTIMEZONE
TZID:UTC
BEGIN:STANDARD
TZOFFSETFROM:+0000
TZOFFSETTO:+0000
TZNAME:UTC
DTSTART:20240101T000000
END:STANDARD
END:VTIMEZONE
BEGIN:VEVENT
DTSTART;TZID=UTC:20241001T103000
DTEND;TZID=UTC:20241001T113000
DTSTAMP:20260426T013313
CREATED:20240430T194827Z
LAST-MODIFIED:20240430T194827Z
UID:113178-1727778600-1727782200@movingseniorsforward.org
SUMMARY:Diabetes Self-Management Program
DESCRIPTION:Diabetes Self-Management Program is an award-winning series based on research conducted at Stanford University and it is designed for anyone with Type 2 diabetes\, pre-diabetes and anyone caring for a loved one with diabetes or pre-diabetes. Learn methods to reduce fatigue\, pain\, stress and fear through exercise and healthy eating\, and to effectively manage the disease to improve quality and outlook on life. This is a virtual class on Tuesdays\, Oct. 1-Nov. 12. Call 805-388-1952 to register.
URL:https://movingseniorsforward.org/event/diabetes-self-management-program/
LOCATION:Virtual
CATEGORIES:Classes
ORGANIZER;CN="Camarillo Health Care District":MAILTO:micheller@camhealth.com
END:VEVENT
END:VCALENDAR