BEGIN:VCALENDAR
VERSION:2.0
PRODID:-//Moving Seniors Forward - ECPv6.15.3//NONSGML v1.0//EN
CALSCALE:GREGORIAN
METHOD:PUBLISH
X-WR-CALNAME:Moving Seniors Forward
X-ORIGINAL-URL:https://movingseniorsforward.org
X-WR-CALDESC:Events for Moving Seniors Forward
REFRESH-INTERVAL;VALUE=DURATION:PT1H
X-Robots-Tag:noindex
X-PUBLISHED-TTL:PT1H
BEGIN:VTIMEZONE
TZID:UTC
BEGIN:STANDARD
TZOFFSETFROM:+0000
TZOFFSETTO:+0000
TZNAME:UTC
DTSTART:20250101T000000
END:STANDARD
END:VTIMEZONE
BEGIN:VEVENT
DTSTART;TZID=UTC:20250610T090000
DTEND;TZID=UTC:20250610T100000
DTSTAMP:20260424T093415
CREATED:20250530T230704Z
LAST-MODIFIED:20250530T230704Z
UID:113668-1749546000-1749549600@movingseniorsforward.org
SUMMARY:Gentle Yoga
DESCRIPTION:Join instructor Mikal Rogers for Yoga-Gentle at Camarillo Health Care District. Health benefits include improved flexibility\, muscle tone and stress alleviation. Classes meet in 10-week sessions or you may join as a drop-in at a special rate. Call 805-388-1952 for more information. Currently\, drop-in is available on Mondays\, 3:45-4:45 p.m.\, and Tuesdays\, 9-10 a.m. \nCall 805-388-1952 to register. Cost is $80 for the 10-week series or $15 for drop-in. The class is held on campus\, 3639 Las Posas Road\, in Camarillo.
URL:https://movingseniorsforward.org/event/gentle-yoga-4/
LOCATION:Camarillo Health Care District\, 3639 Las Posas Road\, Camarillo\, CA\, 93010\, United States
CATEGORIES:Classes,Health and wellness
ORGANIZER;CN="Camarillo Health Care District":MAILTO:micheller@camhealth.com
END:VEVENT
END:VCALENDAR