BEGIN:VCALENDAR
VERSION:2.0
PRODID:-//Moving Seniors Forward - ECPv6.15.3//NONSGML v1.0//EN
CALSCALE:GREGORIAN
METHOD:PUBLISH
X-WR-CALNAME:Moving Seniors Forward
X-ORIGINAL-URL:https://movingseniorsforward.org
X-WR-CALDESC:Events for Moving Seniors Forward
REFRESH-INTERVAL;VALUE=DURATION:PT1H
X-Robots-Tag:noindex
X-PUBLISHED-TTL:PT1H
BEGIN:VTIMEZONE
TZID:UTC
BEGIN:STANDARD
TZOFFSETFROM:+0000
TZOFFSETTO:+0000
TZNAME:UTC
DTSTART:20250101T000000
END:STANDARD
END:VTIMEZONE
BEGIN:VEVENT
DTSTART;TZID=UTC:20250606T090000
DTEND;TZID=UTC:20250606T120000
DTSTAMP:20260424T075531
CREATED:20250415T225845Z
LAST-MODIFIED:20250415T225845Z
UID:113632-1749200400-1749211200@movingseniorsforward.org
SUMMARY:Depression and Caregiver Well-Being Screening
DESCRIPTION:Speak with a qualified counselor to learn more about symptoms of depression. Understand more about the moods you are experiencing and learn about resources that can help. \nFriday\, June 6\,  book a time between 9 a.m. and 12 p.m. l in one-hour blocks \nCall 800-900-8582 for an appointment.
URL:https://movingseniorsforward.org/event/depression-and-caregiver-well-being-screening-4/
LOCATION:Camarillo Health Care District\, 3639 Las Posas Road\, Camarillo\, CA\, 93010\, United States
CATEGORIES:Caregiving,Health and wellness
ORGANIZER;CN="Camarillo Health Care District":MAILTO:micheller@camhealth.com
END:VEVENT
BEGIN:VEVENT
DTSTART;TZID=UTC:20250610T090000
DTEND;TZID=UTC:20250610T100000
DTSTAMP:20260424T075531
CREATED:20250530T230704Z
LAST-MODIFIED:20250530T230704Z
UID:113668-1749546000-1749549600@movingseniorsforward.org
SUMMARY:Gentle Yoga
DESCRIPTION:Join instructor Mikal Rogers for Yoga-Gentle at Camarillo Health Care District. Health benefits include improved flexibility\, muscle tone and stress alleviation. Classes meet in 10-week sessions or you may join as a drop-in at a special rate. Call 805-388-1952 for more information. Currently\, drop-in is available on Mondays\, 3:45-4:45 p.m.\, and Tuesdays\, 9-10 a.m. \nCall 805-388-1952 to register. Cost is $80 for the 10-week series or $15 for drop-in. The class is held on campus\, 3639 Las Posas Road\, in Camarillo.
URL:https://movingseniorsforward.org/event/gentle-yoga-4/
LOCATION:Camarillo Health Care District\, 3639 Las Posas Road\, Camarillo\, CA\, 93010\, United States
CATEGORIES:Classes,Health and wellness
ORGANIZER;CN="Camarillo Health Care District":MAILTO:micheller@camhealth.com
END:VEVENT
BEGIN:VEVENT
DTSTART;TZID=UTC:20250617T130000
DTEND;TZID=UTC:20250617T160000
DTSTAMP:20260424T075531
CREATED:20250530T231157Z
LAST-MODIFIED:20250530T231157Z
UID:113670-1750165200-1750176000@movingseniorsforward.org
SUMMARY:Senior Nutrition Counseling
DESCRIPTION:Meet with Patti Jaeger\, Registered Dietitian with Ventura County Area Agency on Aging\, to discuss your specific health needs. Topics include controlling blood pressure\, lowering cholesterol\, enhancing bone health and eating healthy on a budget. Participants must be age 60 or older. Call 805-388-1952 to book an appointment. No charge. Appointments held on Camarillo Health Care District’s campus\, 3639 Las Posas Road\, in Camarillo.
URL:https://movingseniorsforward.org/event/senior-nutrition-counseling/
LOCATION:Camarillo Health Care District\, 3639 Las Posas Road\, Camarillo\, CA\, 93010\, United States
CATEGORIES:Senior Nutrition Counseling
ORGANIZER;CN="Camarillo Health Care District":MAILTO:micheller@camhealth.com
END:VEVENT
END:VCALENDAR