BEGIN:VCALENDAR
VERSION:2.0
PRODID:-//Moving Seniors Forward - ECPv6.15.3//NONSGML v1.0//EN
CALSCALE:GREGORIAN
METHOD:PUBLISH
X-ORIGINAL-URL:https://movingseniorsforward.org
X-WR-CALDESC:Events for Moving Seniors Forward
REFRESH-INTERVAL;VALUE=DURATION:PT1H
X-Robots-Tag:noindex
X-PUBLISHED-TTL:PT1H
BEGIN:VTIMEZONE
TZID:UTC
BEGIN:STANDARD
TZOFFSETFROM:+0000
TZOFFSETTO:+0000
TZNAME:UTC
DTSTART:20240101T000000
END:STANDARD
END:VTIMEZONE
BEGIN:VEVENT
DTSTART;TZID=UTC:20240116T110000
DTEND;TZID=UTC:20240116T120000
DTSTAMP:20260425T220528
CREATED:20230825T181652Z
LAST-MODIFIED:20230825T181652Z
UID:112938-1705402800-1705406400@movingseniorsforward.org
SUMMARY:Bingocize
DESCRIPTION:Bingocize is a fun and interactive program\, based on research conducted at Western Kentucky University\, combining education with exercise and social engagement. Methods taught in this course focus on health education\, such as nutrition and fall prevention\, knowledge of fall risks\, ways to reduce falls\, health activation\, and aspects of cognition. The exercise component focuses on improving functional performance for upper and lower body strength\, balance and range of motion. We currently have three offerings. \nJan. 16-March 21\, 2024 (T&Th)\, 11 a.m.-12 p.m. \n10-week series. \nCall 805-388-1952 to register. No charge to participate.
URL:https://movingseniorsforward.org/event/bingocize/
LOCATION:Camarillo Health Care District\, 3639 Las Posas Road\, Camarillo\, CA\, 93010\, United States
ORGANIZER;CN="Camarillo Health Care District":MAILTO:micheller@camhealth.com
END:VEVENT
END:VCALENDAR