BEGIN:VCALENDAR
VERSION:2.0
PRODID:-//Moving Seniors Forward - ECPv6.15.3//NONSGML v1.0//EN
CALSCALE:GREGORIAN
METHOD:PUBLISH
X-ORIGINAL-URL:https://movingseniorsforward.org
X-WR-CALDESC:Events for Moving Seniors Forward
REFRESH-INTERVAL;VALUE=DURATION:PT1H
X-Robots-Tag:noindex
X-PUBLISHED-TTL:PT1H
BEGIN:VTIMEZONE
TZID:UTC
BEGIN:STANDARD
TZOFFSETFROM:+0000
TZOFFSETTO:+0000
TZNAME:UTC
DTSTART:20240101T000000
END:STANDARD
END:VTIMEZONE
BEGIN:VEVENT
DTSTART;TZID=UTC:20240615T130000
DTEND;TZID=UTC:20240615T150000
DTSTAMP:20260426T034352
CREATED:20240524T200041Z
LAST-MODIFIED:20240524T200331Z
UID:113240-1718456400-1718463600@movingseniorsforward.org
SUMMARY:Salute to the Troops
DESCRIPTION:Moving Seniors Forward will be among the organizations supporting the Salute to the Troops: Heartfelt Tribute to Our Heroes event 1 p.m. on June 15 at Conejo Creek North Park\, Lakeside Pavilion\, in Thousand Oaks. \nThe event\, organized by Moving Seniors Forward associate member organization the Greater Conejo Valley Chapter of America Supporting Americans\, will feature a memorable line-up of performances and speakers: \nSeniors Of Note Big Band: Enjoy the swinging sounds of patriotism with live performances by this talented big band. \nColor Guard – Simi Valley Marine Corps League: A moving presentation of the colors by the Simi Valley Marine Corps League. \nKeynote Speaker – Captain Charlie Plumb: Vietnam veteran and former prisoner of war Captain Charlie Plumb will share his inspiring story of resilience and patriotism. \nRemarks by ASA founder Linda Patterson: The visionary behind America Supporting Americans will speak about the organization’s impact and the future of ASA. \nA virtual Field of Honor is currently featured online. Virtual flags in tribute to veterans and service members may be purchased for $10 each and will be displayed in the virtual “field of honor.” To purchase a flag\, visit ADA online. \nFor the the live event on June 15\, flags in tribute to veterans and service members may be purchased in advance of the event for $25 each and will be displayed in the “field on honor” at the event. They also may be purchased in advance on ADA’s website. \nAmerica Supporting Americans is dedicated to supporting American troops by providing essential assistance and resources to their families at home\, ensuring that no family stands alone. All proceeds from the event will go directly to furthering their mission. \nFor more information\, call A.J. Steinberg at 310-795-0269.
URL:https://movingseniorsforward.org/event/salute-to-the-troops/
LOCATION:Conejo Creek North Park\, Lakeside Pavilion\, 1379 E Janss Rd\, Thousand Oaks\, CA\, 91362\, United States
CATEGORIES:Veterans
ORGANIZER;CN="America Supporting Americans":MAILTO:info@asa-gcvc.org
END:VEVENT
BEGIN:VEVENT
DTSTART;TZID=UTC:20240626T120000
DTEND;TZID=UTC:20240626T150000
DTSTAMP:20260426T034352
CREATED:20240109T212123Z
LAST-MODIFIED:20240109T212123Z
UID:113056-1719403200-1719414000@movingseniorsforward.org
SUMMARY:Fraud/Scam Support & Info
DESCRIPTION:Meet with victim advocate Debbie Deem\, retired victim specialist with the FBI and former coordinator of the Financial Abuse Specialist Team (FAST)\, part of the Ventura County District Attorney’s Office\, for one-on-one coaching on how to avoid being scammed by fraudsters and what to do if you have been. She will provide resources\, support and information. One-on-one appointments are available at noon and 1 p.m.\, and walk-ins may be seen 2 to 3 p.m. \nTopics may include: \n\nRomance imposters\nLottery and sweepstakes\nCrypto – investments\nFake grandparent or family emergency\nGovernment\, bank or business imposters\n\nFourth Wednesday of each month starting in February  I  12 p.m. and 1 p.m.  I  A  I  NC \nDrop-in: Fourth Wednesday of the month at 2-3 p.m. (February-November 2024)
URL:https://movingseniorsforward.org/event/fraud-scam-support-info-5/
LOCATION:Camarillo Health Care District\, 3639 Las Posas Road\, Camarillo\, CA\, 93010\, United States
ORGANIZER;CN="Camarillo Health Care District":MAILTO:micheller@camhealth.com
END:VEVENT
END:VCALENDAR