BEGIN:VCALENDAR
VERSION:2.0
PRODID:-//Moving Seniors Forward - ECPv6.15.3//NONSGML v1.0//EN
CALSCALE:GREGORIAN
METHOD:PUBLISH
X-ORIGINAL-URL:https://movingseniorsforward.org
X-WR-CALDESC:Events for Moving Seniors Forward
REFRESH-INTERVAL;VALUE=DURATION:PT1H
X-Robots-Tag:noindex
X-PUBLISHED-TTL:PT1H
BEGIN:VTIMEZONE
TZID:UTC
BEGIN:STANDARD
TZOFFSETFROM:+0000
TZOFFSETTO:+0000
TZNAME:UTC
DTSTART:20250101T000000
END:STANDARD
END:VTIMEZONE
BEGIN:VEVENT
DTSTART;TZID=UTC:20251014T100000
DTEND;TZID=UTC:20251014T110000
DTSTAMP:20260424T012130
CREATED:20251003T225049Z
LAST-MODIFIED:20251003T225049Z
UID:113832-1760436000-1760439600@movingseniorsforward.org
SUMMARY:Pedaling the Planet - VR Meets Cycling
DESCRIPTION:It’s virtual reality meets cycling in the first half of this introductory VR class\, which incorporates desk cycles\, so it feels like you’re truly outdoors biking. And the best part is you’re not alone! Join three others in races across the different landscapes while safely seated. Pop balloons that appear in front of you as you make your way down the trail improving your hand-eye coordination and thinking skills. Enjoy the experience and the beauty of this virtual outdoor space while getting some exercise. \nNo cost thanks to city of Camarillo grant. \n10-11 a.m. Tuesday\, Oct. 14 \nCall 805-388-1952 to register for one of these classes and/or be added to a interest list. The class is held on our campus\, 3639 Las Posas Road\, in Camarillo.
URL:https://movingseniorsforward.org/event/pedaling-the-planet-vr-meets-cycling/
LOCATION:Camarillo Health Care District\, 3639 Las Posas Road\, Camarillo\, CA\, 93010\, United States
CATEGORIES:Classes,Exercise,Fall Prevention
ORGANIZER;CN="Camarillo Health Care District":MAILTO:micheller@camhealth.com
END:VEVENT
BEGIN:VEVENT
DTSTART;TZID=UTC:20251022T120000
DTEND;TZID=UTC:20251022T150000
DTSTAMP:20260424T012130
CREATED:20251003T230527Z
LAST-MODIFIED:20251003T230527Z
UID:113843-1761134400-1761145200@movingseniorsforward.org
SUMMARY:Fraud and Scam Intervention Coaching
DESCRIPTION:Meet with victim advocate Debbie Deem\, retired victim specialist with the FBI and former coordinator of the Financial Abuse Specialist Team (FAST)\, part of the Ventura County District Attorney’s Office\, for one-on-one coaching on how to avoid being scammed by fraudsters and what to do if you have been. She will provide resources\, support and information. One-on-one appointments are available at noon and 1 p.m.\, and walk-ins may be seen 2 to 3 p.m. at Camarillo Health Care District\, 3639 Las Posas Road\, Camarillo. \nTopics may include: \n\nRomance imposters\nLottery and sweepstakes\nCrypto – investments\nFake grandparent or family emergency\nGovernment\, bank or business imposters\n\nFourth Wednesday of each month  I  12 p.m. and 1 p.m.  I  A  I  NC \nCall 805-388-1952 for an appointment. \nDrop-in: Fourth Wednesday of the month at 2-3 p.m.
URL:https://movingseniorsforward.org/event/fraud-and-scam-intervention-coaching-2/
LOCATION:Camarillo Health Care District\, 3639 Las Posas Road\, Camarillo\, CA\, 93010\, United States
CATEGORIES:Scam Information
ORGANIZER;CN="Camarillo Health Care District":MAILTO:micheller@camhealth.com
END:VEVENT
BEGIN:VEVENT
DTSTART;TZID=UTC:20251023T100000
DTEND;TZID=UTC:20251023T110000
DTSTAMP:20260424T012130
CREATED:20251003T225319Z
LAST-MODIFIED:20251015T201826Z
UID:113834-1761213600-1761217200@movingseniorsforward.org
SUMMARY:Pedaling the Planet - VR Meets Cycling
DESCRIPTION:It’s virtual reality meets cycling in the first half of this introductory VR class\, which incorporates desk cycles\, so it feels like you’re truly outdoors biking. And the best part is you’re not alone! Join three others in races across the different landscapes while safely seated. Pop balloons that appear in front of you as you make your way down the trail improving your hand-eye coordination and thinking skills. Enjoy the experience and the beauty of this virtual outdoor space while getting some exercise. \nNo cost thanks to city of Camarillo grant. \n10-11 a.m. Tuesday\, Oct. 23 \nCall 805-388-1952 to register for one of these classes and/or be added to a interest list. The class is held on our campus\, 3639 Las Posas Road\, in Camarillo.
URL:https://movingseniorsforward.org/event/113834/
LOCATION:Camarillo Health Care District\, 3639 Las Posas Road\, Camarillo\, CA\, 93010\, United States
CATEGORIES:Classes,Exercise,Fall Prevention
ORGANIZER;CN="Camarillo Health Care District":MAILTO:micheller@camhealth.com
END:VEVENT
END:VCALENDAR