BEGIN:VCALENDAR
VERSION:2.0
PRODID:-//Moving Seniors Forward - ECPv6.15.3//NONSGML v1.0//EN
CALSCALE:GREGORIAN
METHOD:PUBLISH
X-WR-CALNAME:Moving Seniors Forward
X-ORIGINAL-URL:https://movingseniorsforward.org
X-WR-CALDESC:Events for Moving Seniors Forward
REFRESH-INTERVAL;VALUE=DURATION:PT1H
X-Robots-Tag:noindex
X-PUBLISHED-TTL:PT1H
BEGIN:VTIMEZONE
TZID:UTC
BEGIN:STANDARD
TZOFFSETFROM:+0000
TZOFFSETTO:+0000
TZNAME:UTC
DTSTART:20240101T000000
END:STANDARD
END:VTIMEZONE
BEGIN:VEVENT
DTSTART;TZID=UTC:20241002T143000
DTEND;TZID=UTC:20241002T160000
DTSTAMP:20260426T013932
CREATED:20240523T231626Z
LAST-MODIFIED:20240528T190306Z
UID:113215-1727879400-1727884800@movingseniorsforward.org
SUMMARY:Living with Diabetes
DESCRIPTION:Join Livingston Memorial Visiting Nurse Association & Hospice for “Living with Type 2 and Pre-Diabetes\,” a free class offered the first Wednesday of the month July through December\, 2:30-4 p.m. It will be presented by Linda Hampson\, a registered nurse and diabetes nurse specialist. Learn about meal planning\, exercise\, blood-sugar monitoring\, medication and new developments. No registration is necessary. Meet at 1605 E. Burnley St.\, Room #3\, in the Community Center.
URL:https://movingseniorsforward.org/event/living-with-diabetes-2/
LOCATION:Pleasant Valley Rec and Parks Community Center\, 1605 E. Burnley St.\, Camarillo\, CA\, 93010\, United States
CATEGORIES:Classes,Diabetes
END:VEVENT
END:VCALENDAR