BEGIN:VCALENDAR
VERSION:2.0
PRODID:-//Moving Seniors Forward - ECPv6.15.3//NONSGML v1.0//EN
CALSCALE:GREGORIAN
METHOD:PUBLISH
X-WR-CALNAME:Moving Seniors Forward
X-ORIGINAL-URL:https://movingseniorsforward.org
X-WR-CALDESC:Events for Moving Seniors Forward
REFRESH-INTERVAL;VALUE=DURATION:PT1H
X-Robots-Tag:noindex
X-PUBLISHED-TTL:PT1H
BEGIN:VTIMEZONE
TZID:UTC
BEGIN:STANDARD
TZOFFSETFROM:+0000
TZOFFSETTO:+0000
TZNAME:UTC
DTSTART:20230101T000000
END:STANDARD
END:VTIMEZONE
BEGIN:VEVENT
DTSTART;TZID=UTC:20231110T093000
DTEND;TZID=UTC:20231110T110000
DTSTAMP:20260425T151013
CREATED:20230428T200728Z
LAST-MODIFIED:20230428T200728Z
UID:112657-1699608600-1699614000@movingseniorsforward.org
SUMMARY:Caregiver Support Group
DESCRIPTION:Caregiver Support Group meets virtually 9:30-11 a.m. the second and Friday of each month. Register through Camarillo Health Care District\, 3639 E. Las Posas Road\, Suite 117\, Camarillo. For more information or to join\, call 800-900-8582.
URL:https://movingseniorsforward.org/event/caregiver-support-group-7/
LOCATION:Virtual
ORGANIZER;CN="Camarillo Health Care District":MAILTO:micheller@camhealth.com
END:VEVENT
END:VCALENDAR