BEGIN:VCALENDAR
VERSION:2.0
PRODID:-//Moving Seniors Forward - ECPv6.15.3//NONSGML v1.0//EN
CALSCALE:GREGORIAN
METHOD:PUBLISH
X-ORIGINAL-URL:https://movingseniorsforward.org
X-WR-CALDESC:Events for Moving Seniors Forward
REFRESH-INTERVAL;VALUE=DURATION:PT1H
X-Robots-Tag:noindex
X-PUBLISHED-TTL:PT1H
BEGIN:VTIMEZONE
TZID:UTC
BEGIN:STANDARD
TZOFFSETFROM:+0000
TZOFFSETTO:+0000
TZNAME:UTC
DTSTART:20250101T000000
END:STANDARD
END:VTIMEZONE
BEGIN:VEVENT
DTSTART;TZID=UTC:20251107T080000
DTEND;TZID=UTC:20251107T110000
DTSTAMP:20260423T220850
CREATED:20251003T231108Z
LAST-MODIFIED:20251003T231108Z
UID:113847-1762502400-1762513200@movingseniorsforward.org
SUMMARY:Dementia Live
DESCRIPTION:Dementia Live is a high impact\, dementia simulation experience that immerses participants into life with dementia\, resulting in a deeper understanding of what it’s like to live with cognitive impairment and sensory change. Participants are outfitted in specialized gear and given a series of tasks to perform. The challenges and struggles one faces become very real to the participant\, triggering heightened empathy and understanding\, creating a catalyst for meaningful communication and improving quality of care. We currently have three offerings. \nFriday\,  Nov. 7\, 9 a.m.\, 10 a.m. or 11 a.m. \nPlease register in advance by calling 800-900-8582. There is no charge. The experience takes place at Camarillo Health Care District\, 3639 Las Posas Road\, Camarillo.
URL:https://movingseniorsforward.org/event/dementia-live-3/
LOCATION:Camarillo Health Care District\, 3639 Las Posas Road\, Camarillo\, CA\, 93010\, United States
CATEGORIES:Caregiving,Classes
ORGANIZER;CN="Camarillo Health Care District":MAILTO:micheller@camhealth.com
END:VEVENT
END:VCALENDAR