BEGIN:VCALENDAR
VERSION:2.0
PRODID:-//Moving Seniors Forward - ECPv6.15.3//NONSGML v1.0//EN
CALSCALE:GREGORIAN
METHOD:PUBLISH
X-WR-CALNAME:Moving Seniors Forward
X-ORIGINAL-URL:https://movingseniorsforward.org
X-WR-CALDESC:Events for Moving Seniors Forward
REFRESH-INTERVAL;VALUE=DURATION:PT1H
X-Robots-Tag:noindex
X-PUBLISHED-TTL:PT1H
BEGIN:VTIMEZONE
TZID:UTC
BEGIN:STANDARD
TZOFFSETFROM:+0000
TZOFFSETTO:+0000
TZNAME:UTC
DTSTART:20240101T000000
END:STANDARD
END:VTIMEZONE
BEGIN:VEVENT
DTSTART;TZID=UTC:20240517T090000
DTEND;TZID=UTC:20240517T120000
DTSTAMP:20260425T022202
CREATED:20240430T200123Z
LAST-MODIFIED:20240430T200123Z
UID:113182-1715936400-1715947200@movingseniorsforward.org
SUMMARY:Dementia Live simulation experience
DESCRIPTION:Dementia Live is a high-impact\, dementia simulation experience that immerses participants into life with dementia\, resulting in a deeper understanding of what it’s like to live with cognitive impairment and sensory change. At the Camarillo Health Care District\, participants are outfitted in specialized gear and given a series of tasks to perform. The challenges and struggles one faces become very real to the participant\, triggering heightened empathy and understanding\, creating a catalyst for meaningful communication and improving quality of care. We currently have three offerings. Friday\, May 17\, between 9 a.m. and noon (1-hour long; sign up for 9\, 10 or 11 a.m.) There is no charge. Call 805-388-1952 to participate.
URL:https://movingseniorsforward.org/event/dementia-live-simulation-experience/
LOCATION:Camarillo Health Care District\, 3639 Las Posas Road\, Camarillo\, CA\, 93010\, United States
CATEGORIES:Classes,Dementia
ORGANIZER;CN="Camarillo Health Care District":MAILTO:micheller@camhealth.com
END:VEVENT
END:VCALENDAR