BEGIN:VCALENDAR
VERSION:2.0
PRODID:-//Moving Seniors Forward - ECPv6.15.3//NONSGML v1.0//EN
CALSCALE:GREGORIAN
METHOD:PUBLISH
X-WR-CALNAME:Moving Seniors Forward
X-ORIGINAL-URL:https://movingseniorsforward.org
X-WR-CALDESC:Events for Moving Seniors Forward
REFRESH-INTERVAL;VALUE=DURATION:PT1H
X-Robots-Tag:noindex
X-PUBLISHED-TTL:PT1H
BEGIN:VTIMEZONE
TZID:UTC
BEGIN:STANDARD
TZOFFSETFROM:+0000
TZOFFSETTO:+0000
TZNAME:UTC
DTSTART:20260101T000000
END:STANDARD
END:VTIMEZONE
BEGIN:VEVENT
DTSTART;TZID=UTC:20260304T100000
DTEND;TZID=UTC:20260304T110000
DTSTAMP:20260423T172338
CREATED:20260224T003452Z
LAST-MODIFIED:20260224T003452Z
UID:113968-1772618400-1772622000@movingseniorsforward.org
SUMMARY:Watch Party & Conversation
DESCRIPTION:What’s the secret to a longer more fulfilling life? \nFilmmaker Chris Kondo\, a member of the Emeriti and Osher Lifelong Learning Institute at CSU Fullerton\, explores that question in “The Longevity Diaries: About Aging Gracefully\,” now available on YouTube. \nThe 25-minute documentary features Camarillo Health Care District CEO Blair Barker (in her former role as Care Services Director) alongside gerontology experts from CSU Fullerton and CSU Long Beach. Focusing on five remarkable individuals\, ages 81 to 103\, the film examines the habits and mindsets that promote living long and living well. \nThe District will host two watch parties with a conversation facilitated by Barker: \nWednesday\, March 4\, 10-11 a.m. \nThe film highlights key elements of longevity: adaptability\, stress management\, healthy diet\, regular exercise\, friendship\, and lifelong learning. \nCall 805-388-1952 to register. Cost is $10 (out-of-District residents add $4). The watch party will be held on our campus\, 3639 Las Posas Road\, in Camarillo.
URL:https://movingseniorsforward.org/event/watch-party-conversation/
LOCATION:Camarillo Health Care District\, 3639 Las Posas Road\, Camarillo\, CA\, 93010\, United States
CATEGORIES:longevity
ORGANIZER;CN="Camarillo Health Care District":MAILTO:micheller@camhealth.com
END:VEVENT
END:VCALENDAR