BEGIN:VCALENDAR
VERSION:2.0
PRODID:-//Moving Seniors Forward - ECPv6.15.3//NONSGML v1.0//EN
CALSCALE:GREGORIAN
METHOD:PUBLISH
X-ORIGINAL-URL:https://movingseniorsforward.org
X-WR-CALDESC:Events for Moving Seniors Forward
REFRESH-INTERVAL;VALUE=DURATION:PT1H
X-Robots-Tag:noindex
X-PUBLISHED-TTL:PT1H
BEGIN:VTIMEZONE
TZID:UTC
BEGIN:STANDARD
TZOFFSETFROM:+0000
TZOFFSETTO:+0000
TZNAME:UTC
DTSTART:20230101T000000
END:STANDARD
END:VTIMEZONE
BEGIN:VEVENT
DTSTART;TZID=UTC:20231101T140000
DTEND;TZID=UTC:20231101T153000
DTSTAMP:20260425T152357
CREATED:20230825T181418Z
LAST-MODIFIED:20230825T181418Z
UID:112936-1698847200-1698852600@movingseniorsforward.org
SUMMARY:Powerful Tools for Caregivers
DESCRIPTION:Caring for a loved one can be overwhelming. This educational program is designed to help caregivers maintain their personal well-being to better care for their loved one or friend. (6-week series). \n**Virtual class offering below** \nNov. 8-Dec. 13 (W) 2-3:30 p.m. l 6-week series l R l $25 for materials (non-District residents add $4) \nSession 0: Wednesday\, Nov. 1\, 2-3:30 p.m. (to get you familiar with the online platform) \nCall 805-388-1952 to register.
URL:https://movingseniorsforward.org/event/powerful-tools-for-caregivers/
LOCATION:Virtual
ORGANIZER;CN="Camarillo Health Care District":MAILTO:micheller@camhealth.com
END:VEVENT
END:VCALENDAR