BEGIN:VCALENDAR
VERSION:2.0
PRODID:-//Moving Seniors Forward - ECPv6.15.3//NONSGML v1.0//EN
CALSCALE:GREGORIAN
METHOD:PUBLISH
X-WR-CALNAME:Moving Seniors Forward
X-ORIGINAL-URL:https://movingseniorsforward.org
X-WR-CALDESC:Events for Moving Seniors Forward
REFRESH-INTERVAL;VALUE=DURATION:PT1H
X-Robots-Tag:noindex
X-PUBLISHED-TTL:PT1H
BEGIN:VTIMEZONE
TZID:UTC
BEGIN:STANDARD
TZOFFSETFROM:+0000
TZOFFSETTO:+0000
TZNAME:UTC
DTSTART:20230101T000000
END:STANDARD
END:VTIMEZONE
BEGIN:VEVENT
DTSTART;TZID=UTC:20231010T130000
DTEND;TZID=UTC:20231010T160000
DTSTAMP:20260425T165043
CREATED:20230428T194211Z
LAST-MODIFIED:20230428T194734Z
UID:112639-1696942800-1696953600@movingseniorsforward.org
SUMMARY:Free Nutrition Counseling
DESCRIPTION:Free Nutrition Counseling for seniors 60 and up\, one-hour increments between 1 and 4 p.m. the second Tuesday of each month at Camarillo Health Care District\, 3639 E. Las Posas Road\, Suite 117\, Camarillo. Meet with Patti Jaeger\, Registered Dietitian with Ventura County Area Agency on Aging\, to discuss your specific health needs. Topics include controlling blood pressure\, lowering cholesterol\, enhancing bone health and eating healthy on a budget. Scheduled an appointment by calling 805-388-1952.
URL:https://movingseniorsforward.org/event/free-nutrition-counseling-6/
LOCATION:Camarillo Health Care District\, 3639 Las Posas Road\, Camarillo\, CA\, 93010\, United States
ORGANIZER;CN="Camarillo Health Care District":MAILTO:micheller@camhealth.com
END:VEVENT
END:VCALENDAR