BEGIN:VCALENDAR
VERSION:2.0
PRODID:-//Moving Seniors Forward - ECPv6.15.3//NONSGML v1.0//EN
CALSCALE:GREGORIAN
METHOD:PUBLISH
X-WR-CALNAME:Moving Seniors Forward
X-ORIGINAL-URL:https://movingseniorsforward.org
X-WR-CALDESC:Events for Moving Seniors Forward
REFRESH-INTERVAL;VALUE=DURATION:PT1H
X-Robots-Tag:noindex
X-PUBLISHED-TTL:PT1H
BEGIN:VTIMEZONE
TZID:UTC
BEGIN:STANDARD
TZOFFSETFROM:+0000
TZOFFSETTO:+0000
TZNAME:UTC
DTSTART:20250101T000000
END:STANDARD
END:VTIMEZONE
BEGIN:VEVENT
DTSTART;TZID=UTC:20251216T093000
DTEND;TZID=UTC:20251216T123000
DTSTAMP:20260423T203013
CREATED:20251003T225940Z
LAST-MODIFIED:20251003T225940Z
UID:113838-1765877400-1765888200@movingseniorsforward.org
SUMMARY:Family Caregiver Symposium: The Power of Care
DESCRIPTION:Caregiving has many faces. It can be a teenage or adult child caring for the parent\, a partner or spouse caring for their loved one\, a grandparent caring for a grandchild\, and so on.  Each situation is different\, bringing its own unique challenges.  Family caregivers are invited to attend our  “Family Caregiver Symposium: The Power of Care” from 9:30 a.m. to 12:30 p.m. on Dec. 16 at the Ventura County Office of Education\, 5189 Verdugo Way\, in Camarillo. Doors will open at 9 a.m. and will start with a complimentary catered breakfast followed by a program designed to uplift and empower those who give so much: \nKeynote Address: Compassion Fatigue\, Post-Traumatic Caregiving and Ambiguous Loss \nCaregiver Panel and Q&A: Personal journeys and lessons learned \nFinding Humor in the Everyday: Laughter as Medicine \nExperiential Opportunities: Virtual Reality Meditation & Caregiver Skills Lab \nResources to Answer: “Now What?” \nReserve your seat by calling 805-388-1952.
URL:https://movingseniorsforward.org/event/family-caregiver-symposium-the-power-of-care/
LOCATION:Ventura County Office of Education\, 5189 Verdugo Way\, Camarillo\, CA\, United States
CATEGORIES:Caregiving
ORGANIZER;CN="Camarillo Health Care District":MAILTO:micheller@camhealth.com
END:VEVENT
END:VCALENDAR