BEGIN:VCALENDAR
VERSION:2.0
PRODID:-//Moving Seniors Forward - ECPv6.15.3//NONSGML v1.0//EN
CALSCALE:GREGORIAN
METHOD:PUBLISH
X-WR-CALNAME:Moving Seniors Forward
X-ORIGINAL-URL:https://movingseniorsforward.org
X-WR-CALDESC:Events for Moving Seniors Forward
REFRESH-INTERVAL;VALUE=DURATION:PT1H
X-Robots-Tag:noindex
X-PUBLISHED-TTL:PT1H
BEGIN:VTIMEZONE
TZID:UTC
BEGIN:STANDARD
TZOFFSETFROM:+0000
TZOFFSETTO:+0000
TZNAME:UTC
DTSTART:20230101T000000
END:STANDARD
END:VTIMEZONE
BEGIN:VEVENT
DTSTART;TZID=UTC:20231201T093000
DTEND;TZID=UTC:20231201T123000
DTSTAMP:20260425T115724
CREATED:20230825T182052Z
LAST-MODIFIED:20230825T182052Z
UID:112942-1701423000-1701433800@movingseniorsforward.org
SUMMARY:Depression and Caregiver Well-Being Screening
DESCRIPTION:It is well-documented that long-term\, unrelieved caregiving duties\, especially when caring for loved ones with dementia\, can have negative impacts on the health\, personal\, social and/or financial well-being of the caregiver. Depression and a sense a well-being become significant factors to evaluate. \nThe Caregiver Center utilizes the Zarit Burden Interview to assess a caregiver’s perception of “burden” to see if those areas are being affected\, with a focus on depression\, mental health\, negative affect\, social support\, stress and coping (American Psychological Association)\, as well as the PHQ-9 Depression Screening tool. \nThe PHq-9 is a “multipurpose instrument for screening\, diagnosing\, monitoring and measuring the severity of depression” (National Institute of Health)\, and utilizes a brief self-report tool. The tool rates the frequency of symptoms which factors in the scoring severity index. \nCamarillo Health Care District’s use and/or results of the PHQ-9 is not a diagnosis. It is outside of the District’s scope to diagnose. Self-reported answers indicate scores that can be measured against the categories listed on the tool\, with further desription. It’s imperative that you consult your physician for symptoms of depression. We currently have two offerings. \nFriday\, Sept. 15\, 9:30 or 10:30 a.m.\, in one-hour blocks l A l NC \nFriday\, Dec. 1\, 9:30\, 10;30 or 11:30 a.m.\, in one-hour blocks l A l NC \nCall 800-900-8582 for an appointment.
URL:https://movingseniorsforward.org/event/depression-and-caregiver-well-being-screening-2/
LOCATION:Camarillo Health Care District\, 3639 Las Posas Road\, Camarillo\, CA\, 93010\, United States
ORGANIZER;CN="Camarillo Health Care District":MAILTO:micheller@camhealth.com
END:VEVENT
BEGIN:VEVENT
DTSTART;TZID=UTC:20231208T093000
DTEND;TZID=UTC:20231208T110000
DTSTAMP:20260425T115724
CREATED:20230428T200847Z
LAST-MODIFIED:20230428T200847Z
UID:112659-1702027800-1702033200@movingseniorsforward.org
SUMMARY:Caregiver Support Group
DESCRIPTION:Caregiver Support Group meets virtually 9:30-11 a.m. the second and Friday of each month. Register through Camarillo Health Care District\, 3639 E. Las Posas Road\, Suite 117\, Camarillo. For more information or to join\, call 800-900-8582.
URL:https://movingseniorsforward.org/event/caregiver-support-group-8/
LOCATION:Virtual
ORGANIZER;CN="Camarillo Health Care District":MAILTO:micheller@camhealth.com
END:VEVENT
BEGIN:VEVENT
DTSTART;TZID=UTC:20231212T130000
DTEND;TZID=UTC:20231212T160000
DTSTAMP:20260425T115724
CREATED:20230428T194642Z
LAST-MODIFIED:20230428T194642Z
UID:112643-1702386000-1702396800@movingseniorsforward.org
SUMMARY:Free Nutrition Counseling
DESCRIPTION:Meet with Patti Jaeger\, Registered Dietitian with Ventura County Area Agency on Aging\, to discuss your specific health needs. Topics include controlling blood pressure\, lowering cholesterol\, enhancing bone health and eating healthy on a budget. Participants must be age 60 or older. Appointments take place at Camarillo Health Care District\, 3639 Las Posas Road\, Camarillo. Call 805-388-1952 to book your appointment.
URL:https://movingseniorsforward.org/event/free-nutrition-counseling-8/
LOCATION:Camarillo Health Care District\, 3639 Las Posas Road\, Camarillo\, CA\, 93010\, United States
ORGANIZER;CN="Camarillo Health Care District":MAILTO:micheller@camhealth.com
END:VEVENT
END:VCALENDAR