BEGIN:VCALENDAR
VERSION:2.0
PRODID:-//Moving Seniors Forward - ECPv6.15.3//NONSGML v1.0//EN
CALSCALE:GREGORIAN
METHOD:PUBLISH
X-WR-CALNAME:Moving Seniors Forward
X-ORIGINAL-URL:https://movingseniorsforward.org
X-WR-CALDESC:Events for Moving Seniors Forward
REFRESH-INTERVAL;VALUE=DURATION:PT1H
X-Robots-Tag:noindex
X-PUBLISHED-TTL:PT1H
BEGIN:VTIMEZONE
TZID:UTC
BEGIN:STANDARD
TZOFFSETFROM:+0000
TZOFFSETTO:+0000
TZNAME:UTC
DTSTART:20230101T000000
END:STANDARD
END:VTIMEZONE
BEGIN:VEVENT
DTSTART;TZID=UTC:20230908T093000
DTEND;TZID=UTC:20230908T110000
DTSTAMP:20260425T165047
CREATED:20230428T200416Z
LAST-MODIFIED:20230428T200416Z
UID:112653-1694165400-1694170800@movingseniorsforward.org
SUMMARY:Caregiver Support Group
DESCRIPTION:Caregiver Support Group meets virtually 9:30-11 a.m. the second and Friday of each month. Register through Camarillo Health Care District\, 3639 E. Las Posas Road\, Suite 117\, Camarillo. For more information or to join\, call 800-900-8582.
URL:https://movingseniorsforward.org/event/caregiver-support-group-5/
LOCATION:Virtual
ORGANIZER;CN="Camarillo Health Care District":MAILTO:micheller@camhealth.com
END:VEVENT
BEGIN:VEVENT
DTSTART;TZID=UTC:20230912T130000
DTEND;TZID=UTC:20230912T160000
DTSTAMP:20260425T165047
CREATED:20230428T193959Z
LAST-MODIFIED:20230428T194833Z
UID:112637-1694523600-1694534400@movingseniorsforward.org
SUMMARY:Free Nutrition Counseling
DESCRIPTION:Free Nutrition Counseling for seniors 60 and up\, one-hour increments between 1 and 4 p.m. the second Tuesday of each month at Camarillo Health Care District\, 3639 E. Las Posas Road\, Suite 117\, Camarillo. Meet with Patti Jaeger\, Registered Dietitian with Ventura County Area Agency on Aging\, to discuss your specific health needs. Topics include controlling blood pressure\, lowering cholesterol\, enhancing bone health and eating healthy on a budget. Scheduled an appointment by calling 805-388-1952.
URL:https://movingseniorsforward.org/event/free-nutrition-counseling-5/
LOCATION:Camarillo Health Care District\, 3639 Las Posas Road\, Camarillo\, CA\, 93010\, United States
ORGANIZER;CN="Camarillo Health Care District":MAILTO:micheller@camhealth.com
END:VEVENT
BEGIN:VEVENT
DTSTART;TZID=UTC:20230926T113000
DTEND;TZID=UTC:20230926T130000
DTSTAMP:20260425T165047
CREATED:20230822T195432Z
LAST-MODIFIED:20230822T195432Z
UID:112901-1695727800-1695733200@movingseniorsforward.org
SUMMARY:Finding Meaning and Hope
DESCRIPTION:This series equips family caregivers with an understanding of ambiguous loss\, the phrase coined by Dr. Pauline Boss to describe the loss one feels when someone is physically present but mentally absent. “Finding Meaning and Hope” explores skills that help you stay strong\, healthy\, resilient and positive as you navigate your caregiving journey with healing and hope. Register by calling 805-388-1952. This series is offered on Thursdays\, Sept. 26-Nov. 28. There is no charge.
URL:https://movingseniorsforward.org/event/finding-meaning-and-hope/
LOCATION:Camarillo Health Care District\, 3639 Las Posas Road\, Camarillo\, CA\, 93010\, United States
ORGANIZER;CN="Camarillo Health Care District":MAILTO:micheller@camhealth.com
END:VEVENT
END:VCALENDAR