BEGIN:VCALENDAR
VERSION:2.0
PRODID:-//Moving Seniors Forward - ECPv6.15.3//NONSGML v1.0//EN
CALSCALE:GREGORIAN
METHOD:PUBLISH
X-WR-CALNAME:Moving Seniors Forward
X-ORIGINAL-URL:https://movingseniorsforward.org
X-WR-CALDESC:Events for Moving Seniors Forward
REFRESH-INTERVAL;VALUE=DURATION:PT1H
X-Robots-Tag:noindex
X-PUBLISHED-TTL:PT1H
BEGIN:VTIMEZONE
TZID:UTC
BEGIN:STANDARD
TZOFFSETFROM:+0000
TZOFFSETTO:+0000
TZNAME:UTC
DTSTART:20230101T000000
END:STANDARD
END:VTIMEZONE
BEGIN:VEVENT
DTSTART;TZID=UTC:20230602T090000
DTEND;TZID=UTC:20230602T120000
DTSTAMP:20260425T223348
CREATED:20230428T192246Z
LAST-MODIFIED:20230428T192322Z
UID:112621-1685696400-1685707200@movingseniorsforward.org
SUMMARY:Depression and Caregiver Well-Being Screening
DESCRIPTION:Speak with a qualified counselor to learn if you show symptoms of depression.  Understand more about the moods you are experiencing and learn about resources that may help. Telephone screenings are 30-minute sessions between 9 a.m. and noon June 2. Call 800-900-8582 to set up your free screening through the Camarillo Health Care District.
URL:https://movingseniorsforward.org/event/depression-and-caregiver-well-being-screening/
LOCATION:Telephone
ORGANIZER;CN="Camarillo Health Care District":MAILTO:micheller@camhealth.com
END:VEVENT
BEGIN:VEVENT
DTSTART;TZID=UTC:20230607T130000
DTEND;TZID=UTC:20230607T150000
DTSTAMP:20260425T223348
CREATED:20230428T211424Z
LAST-MODIFIED:20230428T211424Z
UID:112707-1686142800-1686150000@movingseniorsforward.org
SUMMARY:Living Well\, Caring Well
DESCRIPTION:Join Dementia Friendly Ventura County for “Living Well\, Caring Well\,” a one-stop-shop for people living with dementia-related disease and their caregivers. The event will be held 1-3 p.m. June 7 at the Goebel Adult Community Center\, 1385 E. Janss Road\, in Thousand Oaks. It will feature adult day centers\, Adult Protective Services\, Alzheimer’s Association\, caregiver resources\, financial resources\, Health Insurance Counseling & Advocacy\, in-home care\, legal and advanced planning\, long-term care ombudsman\, neurology\, and public benefits programs such as IHSS\, Medi-Cal and CalFresh. Speak to industry professionals in person\, navigate resources and learn about services designed especially for you.
URL:https://movingseniorsforward.org/event/living-well-caring-well/
LOCATION:Goebel Adult Community Center\, 1385 E. Janss Road\, Thousand Oaks\, CA\, 91362\, United States
END:VEVENT
BEGIN:VEVENT
DTSTART;TZID=UTC:20230609T093000
DTEND;TZID=UTC:20230609T110000
DTSTAMP:20260425T223348
CREATED:20230428T195908Z
LAST-MODIFIED:20230428T195908Z
UID:112647-1686303000-1686308400@movingseniorsforward.org
SUMMARY:Caregiver Support Group
DESCRIPTION:Caregiver Support Group meets virtually 9:30-11 a.m. the second and Friday of each month. Register through Camarillo Health Care District\, 3639 E. Las Posas Road\, Suite 117\, Camarillo. For more information or to join\, call 800-900-8582.
URL:https://movingseniorsforward.org/event/caregiver-support-group-2/
LOCATION:Virtual
ORGANIZER;CN="Camarillo Health Care District":MAILTO:micheller@camhealth.com
END:VEVENT
BEGIN:VEVENT
DTSTART;TZID=UTC:20230613T130000
DTEND;TZID=UTC:20230613T160000
DTSTAMP:20260425T223348
CREATED:20230428T193505Z
LAST-MODIFIED:20230428T194954Z
UID:112631-1686661200-1686672000@movingseniorsforward.org
SUMMARY:Free Nutrition Counseling
DESCRIPTION:Free Nutrition Counseling for seniors 60 and up\, one-hour increments between 1 and 4 p.m. the second Tuesday of each month at Camarillo Health Care District\, 3639 E. Las Posas Road\, Suite 117\, Camarillo. Meet with Patti Jaeger\, Registered Dietitian with Ventura County Area Agency on Aging\, to discuss your specific health needs. Topics include controlling blood pressure\, lowering cholesterol\, enhancing bone health and eating healthy on a budget. Scheduled an appointment by calling 805-388-1952.
URL:https://movingseniorsforward.org/event/free-nutrition-counseling-2/
LOCATION:Camarillo Health Care District\, 3639 Las Posas Road\, Camarillo\, CA\, 93010\, United States
ORGANIZER;CN="Camarillo Health Care District":MAILTO:micheller@camhealth.com
END:VEVENT
END:VCALENDAR