BEGIN:VCALENDAR
VERSION:2.0
PRODID:-//Moving Seniors Forward - ECPv6.15.3//NONSGML v1.0//EN
CALSCALE:GREGORIAN
METHOD:PUBLISH
X-WR-CALNAME:Moving Seniors Forward
X-ORIGINAL-URL:https://movingseniorsforward.org
X-WR-CALDESC:Events for Moving Seniors Forward
REFRESH-INTERVAL;VALUE=DURATION:PT1H
X-Robots-Tag:noindex
X-PUBLISHED-TTL:PT1H
BEGIN:VTIMEZONE
TZID:UTC
BEGIN:STANDARD
TZOFFSETFROM:+0000
TZOFFSETTO:+0000
TZNAME:UTC
DTSTART:20230101T000000
END:STANDARD
END:VTIMEZONE
BEGIN:VEVENT
DTSTART;TZID=UTC:20230505T090000
DTEND;TZID=UTC:20230505T120000
DTSTAMP:20260425T234837
CREATED:20230428T192716Z
LAST-MODIFIED:20230428T192716Z
UID:112624-1683277200-1683288000@movingseniorsforward.org
SUMMARY:Dementia Live simulated experience
DESCRIPTION:Dementia Live is a dementia simulation experience at the Camarillo Health Care District\, 3639 E. Las Posas Road\, Suite 117\, Camarillo\, that immerses participants into life with dementia.  Participants are outfitted in specialized gear and given a series of tasks to perform. The challenges and struggles one face become very real to the participant\, triggering heightened empathy and understanding\, and creating a catalyst for meaningful communication and improving quality care. There is no charge. Register by calling 805-388-1952.
URL:https://movingseniorsforward.org/event/dementia-live-simulated-experience/
LOCATION:Camarillo Health Care District\, 3639 Las Posas Road\, Camarillo\, CA\, 93010\, United States
ORGANIZER;CN="Camarillo Health Care District":MAILTO:micheller@camhealth.com
END:VEVENT
BEGIN:VEVENT
DTSTART;TZID=UTC:20230512T093000
DTEND;TZID=UTC:20230512T110000
DTSTAMP:20260425T234837
CREATED:20230428T195619Z
LAST-MODIFIED:20230428T195619Z
UID:112645-1683883800-1683889200@movingseniorsforward.org
SUMMARY:Caregiver Support Group
DESCRIPTION:Caregiver Support Group meets virtually 9:30-11 a.m. the second and Friday of each month. Register through Camarillo Health Care District\, 3639 E. Las Posas Road\, Suite 117\, Camarillo. 805-388-1952.
URL:https://movingseniorsforward.org/event/caregiver-support-group/
LOCATION:Virtual
ORGANIZER;CN="Camarillo Health Care District":MAILTO:micheller@camhealth.com
END:VEVENT
END:VCALENDAR