BEGIN:VCALENDAR
VERSION:2.0
PRODID:-//Moving Seniors Forward - ECPv6.15.3//NONSGML v1.0//EN
CALSCALE:GREGORIAN
METHOD:PUBLISH
X-WR-CALNAME:Moving Seniors Forward
X-ORIGINAL-URL:https://movingseniorsforward.org
X-WR-CALDESC:Events for Moving Seniors Forward
REFRESH-INTERVAL;VALUE=DURATION:PT1H
X-Robots-Tag:noindex
X-PUBLISHED-TTL:PT1H
BEGIN:VTIMEZONE
TZID:UTC
BEGIN:STANDARD
TZOFFSETFROM:+0000
TZOFFSETTO:+0000
TZNAME:UTC
DTSTART:20260101T000000
END:STANDARD
END:VTIMEZONE
BEGIN:VEVENT
DTSTART;TZID=UTC:20260504T130000
DTEND;TZID=UTC:20260504T150000
DTSTAMP:20260423T130756
CREATED:20260421T213021Z
LAST-MODIFIED:20260421T213021Z
UID:114075-1777899600-1777906800@movingseniorsforward.org
SUMMARY:Caregiver Support Group
DESCRIPTION:The Caregivers Support Group is intended for those who are on the journey with a parent\, spouse\, friend\, neighbor and others\, who have a chronic condition requiring care such as dementia\, Parkinson’s\, or other illnesses. \nThe virtual support group meets on the second and fourth Friday of each month from 9:30-11 a.m. \nThe in-person group meets the first Monday of the month\, 1-2:30 p.m. at 3639 Las Posas Road\, Building H\, in Camarillo. \nCall (800)900-8582 to sign up.
URL:https://movingseniorsforward.org/event/caregiver-support-group-10/
LOCATION:Camarillo Health Care District\, 3639 Las Posas Road\, Camarillo\, CA\, 93010\, United States
CATEGORIES:Caregiver Support Group,Caregiving
ORGANIZER;CN="Camarillo Health Care District":MAILTO:micheller@camhealth.com
END:VEVENT
BEGIN:VEVENT
DTSTART;TZID=UTC:20260514T153000
DTEND;TZID=UTC:20260514T170000
DTSTAMP:20260423T130756
CREATED:20260421T213236Z
LAST-MODIFIED:20260421T213236Z
UID:114077-1778772600-1778778000@movingseniorsforward.org
SUMMARY:Doctor Talk: Demystifying Oncology Treatments
DESCRIPTION:Dr Kay Anand will present ” Demystifying Oncology Treatments” 3:30-4:30 p.m. on May 14 at Camarillo Health Care District\, 3639 Las Posas Road\, in Camarillo. \nDr. Anand’s passion for medicine started at a very young age when she would often run into her father’s cardiology clinic and beg to do EKGs and help with patient registration. It was no surprise that she entered medical school directly from high school. She then pursued a three-year internship in internal medicine in the NHS trust system in the UK before moving to New York. \nDr. Anand graduated fellowship In 1998 in Medical Oncology from Albert Einstein University in New York\, and pursued a career in private practice in Arizona\, Nevada and finally in Los Angeles for the last 25 years. She has a special interest in the treatment of lung cancer and the medical management of gynecological cancers such as ovarian\, uterine\, and cervical cancers. Her practice focuses on a patient centered approach\, amalgamating her patients’ goals with modern advances in cancer treatments.
URL:https://movingseniorsforward.org/event/doctor-talk-demystifying-oncology-treatments/
LOCATION:Camarillo Health Care District\, 3639 Las Posas Road\, Camarillo\, CA\, 93010\, United States
CATEGORIES:cancer,Health and wellness,Medical presentation
ORGANIZER;CN="Camarillo Health Care District":MAILTO:micheller@camhealth.com
END:VEVENT
BEGIN:VEVENT
DTSTART;TZID=UTC:20260519T100000
DTEND;TZID=UTC:20260519T113000
DTSTAMP:20260423T130756
CREATED:20260421T214537Z
LAST-MODIFIED:20260421T214537Z
UID:114087-1779184800-1779190200@movingseniorsforward.org
SUMMARY:iPhone Tips & Tricks
DESCRIPTION:If you have an iPhone and want to learn  some tips and tricks on how to better utilize its features\, register for this 75-minute class that will cover downloading applications\, streaming music\, finding and listening to podcasts\, storing and sharing documents\, signing a document\, scanning a QR code\, blocking phone numbers and reporting spam calls\, conference calling\, FaceTime\, use of emojis (and what they mean)\, and how to respond to texts with gifs\, emojis and adding effects to emojis (screen takeover/echo\, spotlight\, balloons\, confetti\, love\, lasers\, fireworks\, celebration; or slam\, loud\, gentle and invisible ink). The class also will include a 15-minute AMA (Ask Me Anything). \nTuesday\, May 19\, 10-11:30 a.m. \nCost is $10 (non-District residents add $4) \nRegister: 805-388-1952.  The class is held on our campus\, 3639 Las Posas Road\, Suite 117\, in Camarillo.
URL:https://movingseniorsforward.org/event/iphone-tips-tricks/
LOCATION:Camarillo Health Care District\, 3639 Las Posas Road\, Camarillo\, CA\, 93010\, United States
CATEGORIES:Classes,digital literacy,education
ORGANIZER;CN="Camarillo Health Care District":MAILTO:micheller@camhealth.com
END:VEVENT
BEGIN:VEVENT
DTSTART;TZID=UTC:20260522T133000
DTEND;TZID=UTC:20260522T150000
DTSTAMP:20260423T130756
CREATED:20260421T212621Z
LAST-MODIFIED:20260421T212621Z
UID:114073-1779456600-1779462000@movingseniorsforward.org
SUMMARY:Presentation: New to Medicare\, Turning 65 or Retiring?
DESCRIPTION:Join the Health Insurance Counseling and Advocacy program (HICAP)\, part of the Ventura County Area Agency on Aging (VCAAA) for a presentation 1:30-3 p.m. May 22 on “New to Medicare: Turning 65 or Retiring?” The talk will be held at Camarillo Health Care District\, 3639 Las Posas Road\,  Building F\, Sequoia Rooms\, in Camarillo. For more information\, call 805-477-7300.
URL:https://movingseniorsforward.org/event/presentation-new-to-medicare-turning-65-or-retiring-2/
LOCATION:Camarillo Health Care District\, 3639 Las Posas Road\, Camarillo\, CA\, 93010\, United States
CATEGORIES:HICAP,Medicare counseling
ORGANIZER;CN="Camarillo Health Care District":MAILTO:micheller@camhealth.com
END:VEVENT
BEGIN:VEVENT
DTSTART;TZID=UTC:20260527T120000
DTEND;TZID=UTC:20260527T130000
DTSTAMP:20260423T130756
CREATED:20260421T214322Z
LAST-MODIFIED:20260421T214322Z
UID:114085-1779883200-1779886800@movingseniorsforward.org
SUMMARY:Scam/Fraud Intervention Coaching
DESCRIPTION:Meet with victim advocate Debbie Deem\, retired victim specialist with the FBI and former coordinator of the Financial Abuse Specialist Team (FAST)\, part of the Ventura County District Attorney’s Office\, for one-on-one coaching on how to avoid being scammed by fraudsters and what to do if you have been. She will provide resources\, support and information. One-on-one appointments are available at noon and 1 p.m.\, and walk-ins may be seen 2 to 3 p.m. For an appointment\, call 805-388-1952. Coaching takes place on our campus\, 3639 Las Posas Road\, Camarillo. \nTopics may include: \n\nRomance imposters\nLottery and sweepstakes\nCrypto – investments\nFake grandparent or family emergency\nGovernment\, bank or business imposters\n\nFourth Wednesday of each month  I  12 p.m. and 1 p.m. \nDrop-in: Fourth Wednesday of the month at 2-3 p.m.
URL:https://movingseniorsforward.org/event/scam-fraud-intervention-coaching-2/
LOCATION:Camarillo Health Care District\, 3639 Las Posas Road\, Camarillo\, CA\, 93010\, United States
CATEGORIES:Mental health,Scam Information
ORGANIZER;CN="Camarillo Health Care District":MAILTO:micheller@camhealth.com
END:VEVENT
BEGIN:VEVENT
DTSTART;TZID=UTC:20260528T120000
DTEND;TZID=UTC:20260528T140000
DTSTAMP:20260423T130756
CREATED:20260220T235728Z
LAST-MODIFIED:20260220T235728Z
UID:113962-1779969600-1779976800@movingseniorsforward.org
SUMMARY:Moving Seniors Forward Lunch Meeting
DESCRIPTION:Established in 2008\, Moving Seniors Forward – Community Resource Group is your trusted resource to dedicated and compassionate professionals who are committed to providing guidance and information to enhance the lives of seniors and their families in our community. Moving Seniors Forward offers a wide spectrum of services to meet the various needs of people during life’s transitions. The group meets the fourth Thursday of the month at noon\, except in November. The November meeting is held the third Thursday of the month. December’s meeting is replaced with a holiday party in the evening. To join the organization or be a guest at our meeting to see what we’re all about\, call 805-558-8157\nor email movingseniorsforward@gmail.com \nMoving Seniors Forward is a not-for-profit 501 (c)(3) organization.\nDonations are tax deductible. Our tax ID number is 30-0678453 \nMoving Seniors Forward – Community Resource Group offers: \n1) Access to each group member who:\na. Has knowledge and experience to counsel you through major lifestyle transitions\nb. Assists in assessing your current living needs\, and together developing an overall plan for your future.\nc. Provides valuable options and reliable referrals to senior service providers. \n2) Educational Seminars \n3) Special Events \nFor more information\, questions\, or to receive a printed copy of our directory\, please feel free to contact us at: \nMoving Seniors Forward – Community Resource Group \nAttn: Linda Archie & Bob Triplett\n2393 Townsgate Road\, Suite 201\, Westlake Village\, CA 93161\n805-558-8157\nmovingseniorsforward@gmail.com
URL:https://movingseniorsforward.org/event/moving-seniors-forward-lunch-meeting-4/
LOCATION:Rose Family Funeral Home and Cremation\, 4444 Cochran St.\, Simi Valley\, CA\, United States
CATEGORIES:Moving Seniors Forward meeting
ORGANIZER;CN="Moving Seniors Forward":MAILTO:movingseniorsforward@gmail.com
END:VEVENT
END:VCALENDAR