BEGIN:VCALENDAR
VERSION:2.0
PRODID:-//Moving Seniors Forward - ECPv6.15.3//NONSGML v1.0//EN
CALSCALE:GREGORIAN
METHOD:PUBLISH
X-ORIGINAL-URL:https://movingseniorsforward.org
X-WR-CALDESC:Events for Moving Seniors Forward
REFRESH-INTERVAL;VALUE=DURATION:PT1H
X-Robots-Tag:noindex
X-PUBLISHED-TTL:PT1H
BEGIN:VTIMEZONE
TZID:UTC
BEGIN:STANDARD
TZOFFSETFROM:+0000
TZOFFSETTO:+0000
TZNAME:UTC
DTSTART:20250101T000000
END:STANDARD
END:VTIMEZONE
BEGIN:VEVENT
DTSTART;TZID=UTC:20251204T100000
DTEND;TZID=UTC:20251204T111500
DTSTAMP:20260423T173324
CREATED:20251003T232456Z
LAST-MODIFIED:20251003T232456Z
UID:113855-1764842400-1764846900@movingseniorsforward.org
SUMMARY:Digital Scrapbooking
DESCRIPTION:Do you have hundreds of photos on your smartphone? Thousands in a shoebox? Creating scrapbooks is a fun pastime that no longer needs to include multiple tools and glue guns. The Camarillo Health Care District will offer Digital Scrapbooking\, a class that can help you turn your beloved photos into an actual book for your coffee table. This two-part class will cover the different online companies (platforms) that make digital scrapbooking\, how to upload your photos (easier than you think!)\, crop\, arrange and create your pages (more fun thank you might imagine!)\, add creative layers and decoration to your pages\, and order your book for yourself or for wonderful gifts! Make something that will become a part of your legacy handed down for generations. Bring your laptop computer or smartphone to follow along or watch and take notes to create a book at home on your own. \nWednesdays\, Dec. 4 and 11\, 10-11:15 a.m. l 2-part class l R l $10 (non-District residents add $4) \nCall 805-388-1952 to register. The class is held on our campus\, 3639 Las Posas Road\, in Camarillo.
URL:https://movingseniorsforward.org/event/digital-scrapbooking-3/
LOCATION:Camarillo Health Care District\, 3639 Las Posas Road\, Camarillo\, CA\, 93010\, United States
CATEGORIES:digital literacy,education
ORGANIZER;CN="Camarillo Health Care District":MAILTO:micheller@camhealth.com
END:VEVENT
BEGIN:VEVENT
DTSTART;TZID=UTC:20251208T100000
DTEND;TZID=UTC:20251208T110000
DTSTAMP:20260423T173324
CREATED:20251003T232707Z
LAST-MODIFIED:20251003T232707Z
UID:113857-1765188000-1765191600@movingseniorsforward.org
SUMMARY:Pedaling the Planet: VR Meets Cycling
DESCRIPTION:It’s virtual reality meets cycling in the first half of this introductory VR class\, which incorporates desk cycles\, so it feels like you’re truly outdoors biking. And the best part is you’re not alone! Join three others in races across the different landscapes while safely seated. Pop balloons that appear in front of you as you make your way down the trail improving your hand-eye coordination and thinking skills. Enjoy the experience and the beauty of this virtual outdoor space while getting some exercise. In the second half\, showcase your artistic skills as you paint on an infinite canvas. \nNo cost thanks to city of Camarillo grant. \n10-11 a.m. Monday\, Dec. 8 \nCall 805-388-1952 to register for one of these classes and/or be added to a interest list. The class is held on our campus\, 3639 Las Posas Road\, in Camarillo.
URL:https://movingseniorsforward.org/event/pedaling-the-planet-vr-meets-cycling-2/
LOCATION:Camarillo Health Care District\, 3639 Las Posas Road\, Camarillo\, CA\, 93010\, United States
CATEGORIES:Classes,Virtual Reality
ORGANIZER;CN="Camarillo Health Care District":MAILTO:micheller@camhealth.com
END:VEVENT
BEGIN:VEVENT
DTSTART;TZID=UTC:20251216T093000
DTEND;TZID=UTC:20251216T123000
DTSTAMP:20260423T173324
CREATED:20251003T225940Z
LAST-MODIFIED:20251003T225940Z
UID:113838-1765877400-1765888200@movingseniorsforward.org
SUMMARY:Family Caregiver Symposium: The Power of Care
DESCRIPTION:Caregiving has many faces. It can be a teenage or adult child caring for the parent\, a partner or spouse caring for their loved one\, a grandparent caring for a grandchild\, and so on.  Each situation is different\, bringing its own unique challenges.  Family caregivers are invited to attend our  “Family Caregiver Symposium: The Power of Care” from 9:30 a.m. to 12:30 p.m. on Dec. 16 at the Ventura County Office of Education\, 5189 Verdugo Way\, in Camarillo. Doors will open at 9 a.m. and will start with a complimentary catered breakfast followed by a program designed to uplift and empower those who give so much: \nKeynote Address: Compassion Fatigue\, Post-Traumatic Caregiving and Ambiguous Loss \nCaregiver Panel and Q&A: Personal journeys and lessons learned \nFinding Humor in the Everyday: Laughter as Medicine \nExperiential Opportunities: Virtual Reality Meditation & Caregiver Skills Lab \nResources to Answer: “Now What?” \nReserve your seat by calling 805-388-1952.
URL:https://movingseniorsforward.org/event/family-caregiver-symposium-the-power-of-care/
LOCATION:Ventura County Office of Education\, 5189 Verdugo Way\, Camarillo\, CA\, United States
CATEGORIES:Caregiving
ORGANIZER;CN="Camarillo Health Care District":MAILTO:micheller@camhealth.com
END:VEVENT
END:VCALENDAR