BEGIN:VCALENDAR
VERSION:2.0
PRODID:-//Moving Seniors Forward - ECPv6.15.3//NONSGML v1.0//EN
CALSCALE:GREGORIAN
METHOD:PUBLISH
X-WR-CALNAME:Moving Seniors Forward
X-ORIGINAL-URL:https://movingseniorsforward.org
X-WR-CALDESC:Events for Moving Seniors Forward
REFRESH-INTERVAL;VALUE=DURATION:PT1H
X-Robots-Tag:noindex
X-PUBLISHED-TTL:PT1H
BEGIN:VTIMEZONE
TZID:UTC
BEGIN:STANDARD
TZOFFSETFROM:+0000
TZOFFSETTO:+0000
TZNAME:UTC
DTSTART:20250101T000000
END:STANDARD
END:VTIMEZONE
BEGIN:VEVENT
DTSTART;TZID=UTC:20250801T090000
DTEND;TZID=UTC:20250801T110000
DTSTAMP:20260423T234113
CREATED:20250714T233457Z
LAST-MODIFIED:20250714T233457Z
UID:113733-1754038800-1754046000@movingseniorsforward.org
SUMMARY:Dementia Live simulation
DESCRIPTION:Dementia Live is a high-impact\, dementia simulation experience that immerses participants into life with dementia\, resulting in a deeper understanding of what it’s like to live with cognitive impairment and sensory change. Participants are outfitted in specialized gear and given a series of tasks to perform. The challenges and struggles one faces become very real to the participant\, triggering heightened empathy and understanding\, creating a catalyst for meaningful communication and improving quality of care. We currently have three offerings. \nFriday\, Aug. 1\, 9 a.m.\, 10 a.m. or 11 a.m. \nPlease register in advance by calling 800-900-8582. There is no charge. The class will take place at Camarillo Health Care District\, 3639 Las Posas Road\, Camarillo.
URL:https://movingseniorsforward.org/event/dementia-live-simulation/
LOCATION:Camarillo Health Care District\, 3639 Las Posas Road\, Camarillo\, CA\, 93010\, United States
CATEGORIES:Caregiving,Dementia
ORGANIZER;CN="Camarillo Health Care District":MAILTO:micheller@camhealth.com
END:VEVENT
BEGIN:VEVENT
DTSTART;TZID=UTC:20250805T090000
DTEND;TZID=UTC:20250805T100000
DTSTAMP:20260423T234113
CREATED:20250714T232741Z
LAST-MODIFIED:20250714T232741Z
UID:113727-1754384400-1754388000@movingseniorsforward.org
SUMMARY:Gentle Yoga
DESCRIPTION:Join instructor Mikal Rogers for Yoga-Gentle. Health benefits include improved flexibility\, muscle tone and stress alleviation. \nClasses meet in 10-week sessions or you may join as a drop-in at a special rate at Camarillo Health Care District\, 3639 Las Posas Road\, Camarillo. \nCall 805-388-1952 for more information or to register. \nCurrently\, drop-in is available on Mondays\, 3:45-4:45 p.m.\, and Tuesdays\, 9-10 a.m. \nNEW SESSION \nTuesdays\, Aug. 5-Oct. 7\, 9-10 a.m. \nCall 805-388-1952 to register. Cost is $80 for the 10-week series or $15 for drop-in. The class is held on our campus\, 3639 Las Posas Road\, in Camarillo.
URL:https://movingseniorsforward.org/event/gentle-yoga-6/
LOCATION:CA
CATEGORIES:Classes,Exercise,Yoga classes
ORGANIZER;CN="Camarillo Health Care District":MAILTO:micheller@camhealth.com
END:VEVENT
BEGIN:VEVENT
DTSTART;TZID=UTC:20250805T133000
DTEND;TZID=UTC:20250805T143000
DTSTAMP:20260423T234113
CREATED:20250714T233002Z
LAST-MODIFIED:20250714T233002Z
UID:113729-1754400600-1754404200@movingseniorsforward.org
SUMMARY:Powerful Tools for Caregivers
DESCRIPTION:Caring for a loved one can be overwhelming. This educational program is designed to help caregivers maintain their personal well-being to better care for their loved one or friend. (6-week series). \nVIRTUAL CLASS \nTuesdays\, Aug. 12-Sept. 16\, 1:30-3 p.m. \nSession 0: Aug. 5\, 1:30-2:30 p.m. \nCost is $30/$34 for materials. \nCall 805-388-1952 to register.
URL:https://movingseniorsforward.org/event/powerful-tools-for-caregivers-3/
LOCATION:Virtual
CATEGORIES:Caregiving,Classes
ORGANIZER;CN="Camarillo Health Care District":MAILTO:micheller@camhealth.com
END:VEVENT
BEGIN:VEVENT
DTSTART;TZID=UTC:20250806T100000
DTEND;TZID=UTC:20250806T111500
DTSTAMP:20260423T234113
CREATED:20250714T233222Z
LAST-MODIFIED:20250714T233222Z
UID:113731-1754474400-1754478900@movingseniorsforward.org
SUMMARY:Digital Scrapbooking
DESCRIPTION:Do you have hundreds of photos on your smartphone? Thousands in a shoebox? Creating scrapbooks is a fun pastime that no longer needs to include multiple tools and glue guns. The Camarillo Health Care District will offer Digital Scrapbooking\, a class that can help you turn your beloved photos into an actual book for your coffee table. This two-part class will cover the different online companies (platforms) that make digital scrapbooking\, how to upload your photos (easier than you think!)\, crop\, arrange and create your pages (more fun thank you might imagine!)\, add creative layers and decoration to your pages\, and order your book for yourself or for wonderful gifts! Make something that will become a part of your legacy handed down for generations. Bring your laptop computer or smartphone to follow along or watch and take notes to create a book at home on your own. \nWednesdays\, Aug. 6 & 13\, 10-11:15 a.m. l 2-part class l R l $10 (non-District residents add $4) \nCall 805-388-1952 to register. The class is held on our campus\, 3639 Las Posas Road\, in Camarillo.
URL:https://movingseniorsforward.org/event/digital-scrapbooking-2/
LOCATION:CA
CATEGORIES:Classes
ORGANIZER;CN="Camarillo Health Care District":MAILTO:micheller@camhealth.com
END:VEVENT
BEGIN:VEVENT
DTSTART;TZID=UTC:20250806T173000
DTEND;TZID=UTC:20250806T183000
DTSTAMP:20260423T234113
CREATED:20250714T233738Z
LAST-MODIFIED:20250714T233738Z
UID:113735-1754501400-1754505000@movingseniorsforward.org
SUMMARY:Friends & Family VR Night
DESCRIPTION:Explore the ocean as a virtual scuba diver getting introduced to and learning about the different sea creatures\, from Great White Sharks\, Beluga and Humpback whales\, dolphins and sea lions to sea snakes and the now-extinct Pliosaurus and Mosasaurus aquatic lizards. If this is your first time to using Oculus/Meta 2 virtual reality headsets and controllers\, no worries. We’ll spend 20-25 minutes showing you how to use them\, plus discussing the benefits of VR. The next 50 minutes will be spent enjoying our adventures before we all chat about our experiences and document our travel adventures in our Adventures in VR passport. Call 805-388-1952 to register. The class is held on our campus\, 3639 Las Posas Road\, in Camarillo. \n5:30-6:30 p.m. Tuesday\, Aug. 6 \n(individual class\, intro level — at least one intro class is required to go on to intermediate or pro level.) \nCost: $5 per class (non-district residents add $4)
URL:https://movingseniorsforward.org/event/friends-family-vr-night/
LOCATION:Camarillo Health Care District\, 3639 Las Posas Road\, Camarillo\, CA\, 93010\, United States
CATEGORIES:Classes,Virtual Reality
ORGANIZER;CN="Camarillo Health Care District":MAILTO:micheller@camhealth.com
END:VEVENT
BEGIN:VEVENT
DTSTART;TZID=UTC:20250807T100000
DTEND;TZID=UTC:20250807T111500
DTSTAMP:20260423T234113
CREATED:20250714T235406Z
LAST-MODIFIED:20250714T235406Z
UID:113737-1754560800-1754565300@movingseniorsforward.org
SUMMARY:VR experience - See the 7 Wonders of the World
DESCRIPTION:Visit the 7 Wonders of the World in VR: The Colosseum in Rome; The Great Wall of China\, the Taj Mahal in India; Christ the Redeemer in Brazil; Machu Picchu\, Peru; Chichen Itza\, Mexico; and Petra\, Jordan.  This is an intermediate class. You must have taken the introductory class “Nature Treks” or “Ocean Rift” to join. Document our travel adventures in our Adventures in VR passport. Call 805-388-1952 to register. The class is held on our campus\, 3639 Las Posas Road\, in Camarillo. \n(individual class\, intermediate level — at least one intro class is required to go on to intermediate or pro.) \n10-11:15 a.m. Thursday\, Aug. 7 \nCost: $10 (non-district residents add $4)
URL:https://movingseniorsforward.org/event/vr-experience-see-the-7-wonders-of-the-world/
LOCATION:Camarillo Health Care District\, 3639 Las Posas Road\, Camarillo\, CA\, 93010\, United States
CATEGORIES:Classes,Virtual Reality
ORGANIZER;CN="Camarillo Health Care District":MAILTO:micheller@camhealth.com
END:VEVENT
BEGIN:VEVENT
DTSTART;TZID=UTC:20250808T093000
DTEND;TZID=UTC:20250808T110000
DTSTAMP:20260423T234113
CREATED:20250714T235611Z
LAST-MODIFIED:20250714T235611Z
UID:113739-1754645400-1754650800@movingseniorsforward.org
SUMMARY:Virtual Caregivers Support Group
DESCRIPTION:The Caregivers Support Group is intended for those who are on the journey with a parent\, spouse\, friend\, neighbor and others\, who have a chronic condition requiring care such as dementia\, Parkinson’s\, or other illnesses. \nThe group meets on the second and fourth Friday of each month from 9:30am-11am (Currently Virtual Only) \nCall (800)900-8582 to sign up.
URL:https://movingseniorsforward.org/event/virtual-caregivers-support-group/
LOCATION:Virtual
CATEGORIES:Caregiver Support Group,Caregiving
ORGANIZER;CN="Camarillo Health Care District":MAILTO:micheller@camhealth.com
END:VEVENT
END:VCALENDAR