BEGIN:VCALENDAR
VERSION:2.0
PRODID:-//Moving Seniors Forward - ECPv6.15.3//NONSGML v1.0//EN
CALSCALE:GREGORIAN
METHOD:PUBLISH
X-WR-CALNAME:Moving Seniors Forward
X-ORIGINAL-URL:https://movingseniorsforward.org
X-WR-CALDESC:Events for Moving Seniors Forward
REFRESH-INTERVAL;VALUE=DURATION:PT1H
X-Robots-Tag:noindex
X-PUBLISHED-TTL:PT1H
BEGIN:VTIMEZONE
TZID:UTC
BEGIN:STANDARD
TZOFFSETFROM:+0000
TZOFFSETTO:+0000
TZNAME:UTC
DTSTART:20250101T000000
END:STANDARD
END:VTIMEZONE
BEGIN:VEVENT
DTSTART;TZID=UTC:20250306T133000
DTEND;TZID=UTC:20250306T153000
DTSTAMP:20260424T090008
CREATED:20241209T211849Z
LAST-MODIFIED:20241209T211849Z
UID:113425-1741267800-1741275000@movingseniorsforward.org
SUMMARY:Dealing with Dementia
DESCRIPTION:The Dealing with Dementia Program was developed by the Rosalynn Carter Institute as an evidence-informed educational support program for caregivers of people living with dementia. This 4-hour workshop highlights topics such as the caregiving experience with an easily understandable explanation of dementia\, best practices in caregiving\, and problem solving with dementia behaviors. Learn tips for caregivers to find time for self-care and stress management. Completed workshop participants will receive a comprehensive manual for dementia caregivers. Spanish and English available. \nThursdays\, March 6 and 13\, 1:30-3:30 p.m. (in person\, 2-part class) \nPlease call to register. The cost of materials is $35\, or $39 for Non-District residents. \nRegister: 800-900-8582
URL:https://movingseniorsforward.org/event/dealing-with-dementia/
LOCATION:Camarillo Health Care District\, 3639 Las Posas Road\, Camarillo\, CA\, 93010\, United States
CATEGORIES:Caregiving,Classes,Dementia
ORGANIZER;CN="Camarillo Health Care District":MAILTO:micheller@camhealth.com
END:VEVENT
BEGIN:VEVENT
DTSTART;TZID=UTC:20250307T173000
DTEND;TZID=UTC:20250307T183000
DTSTAMP:20260424T090008
CREATED:20241218T182159Z
LAST-MODIFIED:20241218T182159Z
UID:113447-1741368600-1741372200@movingseniorsforward.org
SUMMARY:Adventures in Virtual Reality
DESCRIPTION:Join Camarillo Health Care District for an opportunity after hours to participate in an introductory virtual reality class. The District provides the equipment and teaches you how to use it using the application “First Steps.” Next\, choose either to explore the natural world using “Nature Treks” or become a virtual scuba diver using “Ocean Rift.” This is an hour of fun for the whole family (13 and older)\, friends night out or after-work with your colleagues! \nCost: $5 (non-district residents add $4) \nCall 805-388-1952 to register for one of these classes and/or be added to a interest list.
URL:https://movingseniorsforward.org/event/adventures-in-virtual-reality-11/
LOCATION:Camarillo Health Care District\, 3639 Las Posas Road\, Camarillo\, CA\, 93010\, United States
CATEGORIES:Mental health
ORGANIZER;CN="Camarillo Health Care District":MAILTO:micheller@camhealth.com
END:VEVENT
BEGIN:VEVENT
DTSTART;TZID=UTC:20250312T100000
DTEND;TZID=UTC:20250312T111500
DTSTAMP:20260424T090008
CREATED:20241218T181921Z
LAST-MODIFIED:20241218T181921Z
UID:113445-1741773600-1741778100@movingseniorsforward.org
SUMMARY:Adventures in Virtual Reality
DESCRIPTION:Explore the ocean as a virtual scuba diver getting introduced to and learning about the different sea creatures\, from Great White Sharks\, Beluga and Humpback whales\, dolphins and sea lions to sea snakes and the now-extinct Pliosaurus and Mosasaurus aquatic lizards. If this is your first time to using Oculus/Meta 2 virtual reality headsets and controllers\, no worries. We’ll spend 20-25 minutes showing you how to use them\, plus discussing the benefits of VR. The next 50 minutes will be spent enjoying our adventures before we all chat about our experiences and document our travel adventures in our Adventures in VR passport. Call 805-388-1952 to register.
URL:https://movingseniorsforward.org/event/adventures-in-virtual-reality-10/
LOCATION:Camarillo Health Care District\, 3639 Las Posas Road\, Camarillo\, CA\, 93010\, United States
CATEGORIES:Mental health
ORGANIZER;CN="Camarillo Health Care District":MAILTO:micheller@camhealth.com
END:VEVENT
BEGIN:VEVENT
DTSTART;TZID=UTC:20250321T090000
DTEND;TZID=UTC:20250321T120000
DTSTAMP:20260424T090008
CREATED:20241209T212158Z
LAST-MODIFIED:20241209T212158Z
UID:113427-1742547600-1742558400@movingseniorsforward.org
SUMMARY:Depression and Caregiver Well-Being Screening
DESCRIPTION:It is well-documented that long-term\, unrelieved caregiving duties\, especially when caring for loved ones with dementia\, can have negative impacts on the health\, personal\, social and/or financial well-being of the caregiver. Depression and a sense a well-being become significant factors to evaluate. \nThe Caregiver Center utilizes the Zarit Burden Interview to assess a caregiver’s perception of “burden” to see if those areas are being affected\, with a focus on depression\, mental health\, negative affect\, social support\, stress and coping (American Psychological Association)\, as well as the PHQ-9 Depression Screening tool. \nThe PHQ-9 is a “multipurpose instrument for screening\, diagnosing\, monitoring and measuring the severity of depression” (National Institute of Health)\, and utilizes a brief self-report tool. The tool rates the frequency of symptoms which factors in the scoring severity index. \nCamarillo Health Care District’s use and/or results of the PHQ-9 is not a diagnosis. It is outside of the District’s scope to diagnose. Self-reported answers indicate scores that can be measured against the categories listed on the tool\, with further description. It’s imperative that you consult your physician for symptoms of depression. We currently have two offerings. \nFriday\, March 21\, 9 a.m.-12 p.m. l in one-hour blocks l A l NC \nCall 800-900-8582 for an appointment.
URL:https://movingseniorsforward.org/event/depression-and-caregiver-well-being-screening-3/
LOCATION:Camarillo Health Care District\, 3639 Las Posas Road\, Camarillo\, CA\, 93010\, United States
CATEGORIES:Caregiving,Mental health
ORGANIZER;CN="Camarillo Health Care District":MAILTO:micheller@camhealth.com
END:VEVENT
BEGIN:VEVENT
DTSTART;TZID=UTC:20250327T120000
DTEND;TZID=UTC:20250327T133000
DTSTAMP:20260424T090008
CREATED:20250129T205930Z
LAST-MODIFIED:20250129T205930Z
UID:113550-1743076800-1743082200@movingseniorsforward.org
SUMMARY:MSF Monthly Meeting
DESCRIPTION:Members of Moving Seniors Forward\, a community resource group focused on seniors\, meet monthly at noon at various locations. The agenda includes announcements; a one-minute testimonial\, greeting or information about members’ work; member spotlights; and miscellaneous housekeeping items\, including participation in community events. To inquire about group membership\, email movingseniorsforward.org or request a current member to invite you as a guest to one of our meetings.
URL:https://movingseniorsforward.org/event/msf-monthly-meeting-2/
LOCATION:CA
CATEGORIES:Moving Seniors Forward meeting
ORGANIZER;CN="Moving Seniors Forward":MAILTO:movingseniorsforward.org
END:VEVENT
END:VCALENDAR