BEGIN:VCALENDAR
VERSION:2.0
PRODID:-//Moving Seniors Forward - ECPv6.15.3//NONSGML v1.0//EN
CALSCALE:GREGORIAN
METHOD:PUBLISH
X-WR-CALNAME:Moving Seniors Forward
X-ORIGINAL-URL:https://movingseniorsforward.org
X-WR-CALDESC:Events for Moving Seniors Forward
REFRESH-INTERVAL;VALUE=DURATION:PT1H
X-Robots-Tag:noindex
X-PUBLISHED-TTL:PT1H
BEGIN:VTIMEZONE
TZID:UTC
BEGIN:STANDARD
TZOFFSETFROM:+0000
TZOFFSETTO:+0000
TZNAME:UTC
DTSTART:20250101T000000
END:STANDARD
END:VTIMEZONE
BEGIN:VEVENT
DTSTART;TZID=UTC:20250106T140000
DTEND;TZID=UTC:20250106T151500
DTSTAMP:20260424T142653
CREATED:20241218T181156Z
LAST-MODIFIED:20241218T181156Z
UID:113437-1736172000-1736176500@movingseniorsforward.org
SUMMARY:Adventures in Virtual Reality
DESCRIPTION:Explore the natural world\, choosing different settings in nature at night or during the day\, with music or soothing sounds of nature\, and encountering 20 different animals\, including dinosaurs\, tigers\, elephants and bears\, or spend your time meditating in nature. If this is your first time to using Oculus/Meta 2 virtual reality headsets and controllers\, no worries. We’ll spend 20-25 minutes showing you how to use them\, plus discussing the benefits of VR. The next 50 minutes will be spent enjoying our adventures before we all chat about our experiences and document our travel adventures in our Adventures in VR passport. To register\, call 805-388-1952.
URL:https://movingseniorsforward.org/event/adventures-in-virtual-reality-6/
LOCATION:Camarillo Health Care District\, 3639 Las Posas Road\, Camarillo\, CA\, 93010\, United States
CATEGORIES:Mental health
ORGANIZER;CN="Camarillo Health Care District":MAILTO:micheller@camhealth.com
END:VEVENT
BEGIN:VEVENT
DTSTART;TZID=UTC:20250115T090000
DTEND;TZID=UTC:20250115T130000
DTSTAMP:20260424T142653
CREATED:20241218T180751Z
LAST-MODIFIED:20241218T180751Z
UID:113435-1736931600-1736946000@movingseniorsforward.org
SUMMARY:Wellness Fest
DESCRIPTION:Moving Seniors Forward will be among dozens of vendors at the 2025 Conejo Senior Volunteer Program’s Wellness Fest from 9 a.m. to 1 p.m. on Jan. 15. The theme is “Highway to Health.” More than 60 vendors are expected\, including local businesses\, nonprofit agencies\, public service organizations\, and the city of Thousand Oaks. There will be health screenings\, a Dementia Live experience\, Master Gardener tours\, a raffle and lunch. Shuttles will be available from the library and park to the Goebel Adult Community Center\, 1385 E. Janns Road in Thousand Oaks\, where the event will be held. Admission is free.
URL:https://movingseniorsforward.org/event/wellness-fest/
LOCATION:Goebel Adult Community Center\, 1385 E. Janss Road\, Thousand Oaks\, CA\, 91362\, United States
CATEGORIES:Health and wellness
END:VEVENT
BEGIN:VEVENT
DTSTART;TZID=UTC:20250115T100000
DTEND;TZID=UTC:20250115T111500
DTSTAMP:20260424T142653
CREATED:20241218T181729Z
LAST-MODIFIED:20241218T181729Z
UID:113443-1736935200-1736939700@movingseniorsforward.org
SUMMARY:Adventures in Virtual Reality
DESCRIPTION:Explore the ocean as a virtual scuba diver getting introduced to and learning about the different sea creatures\, from Great White Sharks\, Beluga and Humpback whales\, dolphins and sea lions to sea snakes and the now-extinct Pliosaurus and Mosasaurus aquatic lizards. If this is your first time to using Oculus/Meta 2 virtual reality headsets and controllers\, no worries. We’ll spend 20-25 minutes showing you how to use them\, plus discussing the benefits of VR. The next 50 minutes will be spent enjoying our adventures before we all chat about our experiences and document our travel adventures in our Adventures in VR passport. Call 805-388-1952 to register.
URL:https://movingseniorsforward.org/event/adventures-in-virtual-reality-9/
LOCATION:Camarillo Health Care District\, 3639 Las Posas Road\, Camarillo\, CA\, 93010\, United States
CATEGORIES:Mental health
ORGANIZER;CN="Camarillo Health Care District":MAILTO:micheller@camhealth.com
END:VEVENT
BEGIN:VEVENT
DTSTART;TZID=UTC:20250117T100000
DTEND;TZID=UTC:20250117T111500
DTSTAMP:20260424T142653
CREATED:20241218T182348Z
LAST-MODIFIED:20241218T182348Z
UID:113449-1737108000-1737112500@movingseniorsforward.org
SUMMARY:Adventures in Virtual Reality (cycling)
DESCRIPTION:It’s off to the races in the first half of this introductory VR class\, which incorporates desk cycles\, so it feels like you’re truly outdoors biking. And the best part is you’re not alone! Join three others in races across the different landscapes while safely seated. Pop balloons that appear in front of you as you make your way down the trail improving your hand-eye coordination and thinking skills. Enjoy the experience and the beauty of this virtual outdoor space while getting some exercise. In the second half\, showcase your artistic skills as you paint on an infinite canvas. \nCost: $5 (non-district residents add $4) \nCall 805-388-1952 to register for one of these classes and/or be added to a interest list.
URL:https://movingseniorsforward.org/event/adventures-in-virtual-reality-cycling/
LOCATION:Camarillo Health Care District\, 3639 Las Posas Road\, Camarillo\, CA\, 93010\, United States
CATEGORIES:Mental health
ORGANIZER;CN="Camarillo Health Care District":MAILTO:micheller@camhealth.com
END:VEVENT
BEGIN:VEVENT
DTSTART;TZID=UTC:20250121T103000
DTEND;TZID=UTC:20250121T113000
DTSTAMP:20260424T142653
CREATED:20241209T210736Z
LAST-MODIFIED:20241209T210736Z
UID:113417-1737455400-1737459000@movingseniorsforward.org
SUMMARY:Bingocize
DESCRIPTION:Bingocize is a fun and interactive program\, based on research conducted at Western Kentucky University\, combining education with exercise and social engagement. Methods taught in this course focus on health education\, such as nutrition and fall prevention\, knowledge of fall risks\, ways to reduce falls\, health activation\, and aspects of cognition. The exercise component focuses on improving functional performance for upper and lower body strength\, balance and range of motion. \nJan. 21-March 27 (T&Th)\, 10:30-11:30 a.m. \nPlease register in advance. The cost is $50\, or $54 for Non-District residents. \n10-week series. \nCall 805-388-1952 to register.
URL:https://movingseniorsforward.org/event/bingocize-2/
LOCATION:Camarillo Health Care District\, 3639 Las Posas Road\, Camarillo\, CA\, 93010\, United States
CATEGORIES:Classes,Exercise
ORGANIZER;CN="Camarillo Health Care District":MAILTO:micheller@camhealth.com
END:VEVENT
BEGIN:VEVENT
DTSTART;TZID=UTC:20250122T133000
DTEND;TZID=UTC:20250122T150000
DTSTAMP:20260424T142653
CREATED:20241209T211134Z
LAST-MODIFIED:20241209T211134Z
UID:113419-1737552600-1737558000@movingseniorsforward.org
SUMMARY:Powerful Tools for Caregivers
DESCRIPTION:Caring for a loved one can be overwhelming. This educational program is designed to help caregivers maintain their personal well-being to better care for their loved one or friend. (6-week series). \nVIRTUAL CLASS: Wednesdays\, Jan. 29-March 5\, 1:30-3 p.m. \nSession 0 : Jan. 22\, 1:30-2:30 p.m. (to introduce the virtual environment) \nCall 805-388-1952 to register or to join an interest list.
URL:https://movingseniorsforward.org/event/powerful-tools-for-caregivers-2/
LOCATION:Virtual
CATEGORIES:Caregiving,Classes
ORGANIZER;CN="Camarillo Health Care District":MAILTO:micheller@camhealth.com
END:VEVENT
BEGIN:VEVENT
DTSTART;TZID=UTC:20250128T100000
DTEND;TZID=UTC:20250128T111500
DTSTAMP:20260424T142653
CREATED:20241218T181401Z
LAST-MODIFIED:20241218T181401Z
UID:113439-1738058400-1738062900@movingseniorsforward.org
SUMMARY:Adventures in Virtual Reality
DESCRIPTION:Explore the natural world\, choosing different settings in nature at night or during the day\, with music or soothing sounds of nature\, and encountering 20 different animals\, including dinosaurs\, tigers\, elephants and bears\, or spend your time meditating in nature. If this is your first time to using Oculus/Meta 2 virtual reality headsets and controllers\, no worries. We’ll spend 20-25 minutes showing you how to use them\, plus discussing the benefits of VR. The next 50 minutes will be spent enjoying our adventures before we all chat about our experiences and document our travel adventures in our Adventures in VR passport. To register\, call 805-388-1952.
URL:https://movingseniorsforward.org/event/adventures-in-virtual-reality-7/
LOCATION:Camarillo Health Care District\, 3639 Las Posas Road\, Camarillo\, CA\, 93010\, United States
CATEGORIES:Mental health
ORGANIZER;CN="Camarillo Health Care District":MAILTO:micheller@camhealth.com
END:VEVENT
BEGIN:VEVENT
DTSTART;TZID=UTC:20250129T100000
DTEND;TZID=UTC:20250129T120000
DTSTAMP:20260424T142653
CREATED:20241209T211407Z
LAST-MODIFIED:20241209T211407Z
UID:113421-1738144800-1738152000@movingseniorsforward.org
SUMMARY:Matter of Balance
DESCRIPTION:Have you fallen? Are you worried about falling? Join us and lea​rn how to prevent falls\, discuss safety techniques to reduce concerns\, and set goals for increasing activity. \nIn this eight-week series\, you’ll learn how to reduce fall risk factors; create action planners addressing behavioral\, environmental and physiological factors that affect your risk for falls; and participate in prompted open discussions surrounding falls. \nThis skill-building class includes exercise to improve strength\, range of motion and flexibility. You’ll learn how to get up from a fall\, if one does occur\, and what to do after a fall. \nYou’ll also receive a textbook with tips and strategies\, as well as personal action planners. A video will be shown of a fall demonstration. Three-quarters of the class will be discussion and learning\, and one-quarter will incorporate exercises that build strength\, flexibility\, coordination and balance. \nWednesdays\, Jan. 29-March 19\, 10 a.m.-12 p.m. \nThe cost is $40\, or $44 for Non-District residents. \nCall 800-900-8582 to join our interest list.
URL:https://movingseniorsforward.org/event/matter-of-balance/
LOCATION:Camarillo Health Care District\, 3639 Las Posas Road\, Camarillo\, CA\, 93010\, United States
CATEGORIES:Classes,Exercise,Fall Prevention
ORGANIZER;CN="Camarillo Health Care District":MAILTO:micheller@camhealth.com
END:VEVENT
BEGIN:VEVENT
DTSTART;TZID=UTC:20250130T140000
DTEND;TZID=UTC:20250130T151500
DTSTAMP:20260424T142653
CREATED:20241218T182550Z
LAST-MODIFIED:20241218T182550Z
UID:113451-1738245600-1738250100@movingseniorsforward.org
SUMMARY:Adventures in Virtual Reality (cycling)
DESCRIPTION:It’s off to the races in the first half of this introductory VR class\, which incorporates desk cycles\, so it feels like you’re truly outdoors biking. And the best part is you’re not alone! Join three others in races across the different landscapes while safely seated. Pop balloons that appear in front of you as you make your way down the trail improving your hand-eye coordination and thinking skills. Enjoy the experience and the beauty of this virtual outdoor space while getting some exercise. In the second half\, showcase your artistic skills as you paint on an infinite canvas. \nCost: $5 (non-district residents add $4) \nCall 805-388-1952 to register for one of these classes and/or be added to a interest list.
URL:https://movingseniorsforward.org/event/adventures-in-virtual-reality-cycling-2/
LOCATION:Camarillo Health Care District\, 3639 Las Posas Road\, Camarillo\, CA\, 93010\, United States
CATEGORIES:Mental health
ORGANIZER;CN="Camarillo Health Care District":MAILTO:micheller@camhealth.com
END:VEVENT
BEGIN:VEVENT
DTSTART;TZID=UTC:20250131T090000
DTEND;TZID=UTC:20250131T110000
DTSTAMP:20260424T142653
CREATED:20241209T211608Z
LAST-MODIFIED:20241209T211701Z
UID:113423-1738314000-1738321200@movingseniorsforward.org
SUMMARY:Dementia Live
DESCRIPTION:Dementia Live is a high impact\, dementia simulation experience that immerses participants into life with dementia\, resulting in a deeper understanding of what it’s like to live with cognitive impairment and sensory change. Participants are outfitted in specialized gear and given a series of tasks to perform. The challenges and struggles one faces become very real to the participant\, triggering heightened empathy and understanding\, creating a catalyst for meaningful communication and improving quality of care. We currently have three offerings. \nFriday\, Jan. 31\, between 9 a.m. and noon (1-hour long; sign up for 9\, 10 or 11 a.m.) \nPlease register in advance by calling 800-900-8582. There is no charge.
URL:https://movingseniorsforward.org/event/dementia-live-2/
LOCATION:Camarillo Health Care District\, 3639 Las Posas Road\, Camarillo\, CA\, 93010\, United States
CATEGORIES:Caregiving,Classes,Dementia
ORGANIZER;CN="Camarillo Health Care District":MAILTO:micheller@camhealth.com
END:VEVENT
BEGIN:VEVENT
DTSTART;TZID=UTC:20250131T103000
DTEND;TZID=UTC:20250131T120000
DTSTAMP:20260424T142653
CREATED:20241218T183933Z
LAST-MODIFIED:20241218T183933Z
UID:113459-1738319400-1738324800@movingseniorsforward.org
SUMMARY:VR Travel Club
DESCRIPTION:Sign up for Camarillo Health Care District’s new VR Travel Club and you’ll become a member of a core group that meets regularly for six weeks exploring the world together. Each week is something different\, from adventures in Asia\, Europe and popular U.S. destinations\, to Cuba and North Africa\, South America and other places around the globe. Because these travel adventures are based on actual video\, this 3-D experience makes you feel as if you’re really there. Over the six weeks\, you’ll get to know your travel companions. Each travel group will come up with its own name. The group decides! Maybe it’s Wanderlust\, Nomads or TSA-Free. You’ll wear a lanyard with your group photo and club name as you create memories that connect you. After Week 1\, bring your own snacks for a post-experience Snack & Chat with your new friends. Call 805-388-1952 to register or join an interest list.
URL:https://movingseniorsforward.org/event/vr-travel-club/
LOCATION:Camarillo Health Care District\, 3639 Las Posas Road\, Camarillo\, CA\, 93010\, United States
CATEGORIES:Mental health
ORGANIZER;CN="Camarillo Health Care District":MAILTO:micheller@camhealth.com
END:VEVENT
END:VCALENDAR