BEGIN:VCALENDAR
VERSION:2.0
PRODID:-//Moving Seniors Forward - ECPv6.15.3//NONSGML v1.0//EN
CALSCALE:GREGORIAN
METHOD:PUBLISH
X-ORIGINAL-URL:https://movingseniorsforward.org
X-WR-CALDESC:Events for Moving Seniors Forward
REFRESH-INTERVAL;VALUE=DURATION:PT1H
X-Robots-Tag:noindex
X-PUBLISHED-TTL:PT1H
BEGIN:VTIMEZONE
TZID:UTC
BEGIN:STANDARD
TZOFFSETFROM:+0000
TZOFFSETTO:+0000
TZNAME:UTC
DTSTART:20260101T000000
END:STANDARD
END:VTIMEZONE
BEGIN:VEVENT
DTSTART;TZID=UTC:20260310T130000
DTEND;TZID=UTC:20260310T160000
DTSTAMP:20260423T185738
CREATED:20260224T003654Z
LAST-MODIFIED:20260224T003654Z
UID:113970-1773147600-1773158400@movingseniorsforward.org
SUMMARY:Senior Nutrition Counseling
DESCRIPTION:Meet with Patti Jaeger\, Registered Dietitian with Ventura County Area Agency on Aging\, to discuss your specific health needs. Topics include controlling blood pressure\, lowering cholesterol\, enhancing bone health and eating healthy on a budget. Participants must be age 60 or older. Call 805-388-1952 to book an appointment. \nAppointments are offered on the second and fourth Tuesday of each month\, between 1 and 4 p.m. on our campus\, 3639 Las Posas Road\, in Camarillo. \nAppointments are 50 minutes each; no charge.
URL:https://movingseniorsforward.org/event/senior-nutrition-counseling-4/
LOCATION:Camarillo Health Care District\, 3639 Las Posas Road\, Camarillo\, CA\, 93010\, United States
CATEGORIES:Senior Nutrition Counseling
ORGANIZER;CN="Camarillo Health Care District":MAILTO:micheller@camhealth.com
END:VEVENT
END:VCALENDAR