BEGIN:VCALENDAR
VERSION:2.0
PRODID:-//Moving Seniors Forward - ECPv6.15.3//NONSGML v1.0//EN
CALSCALE:GREGORIAN
METHOD:PUBLISH
X-WR-CALNAME:Moving Seniors Forward
X-ORIGINAL-URL:https://movingseniorsforward.org
X-WR-CALDESC:Events for Moving Seniors Forward
REFRESH-INTERVAL;VALUE=DURATION:PT1H
X-Robots-Tag:noindex
X-PUBLISHED-TTL:PT1H
BEGIN:VTIMEZONE
TZID:UTC
BEGIN:STANDARD
TZOFFSETFROM:+0000
TZOFFSETTO:+0000
TZNAME:UTC
DTSTART:20260101T000000
END:STANDARD
END:VTIMEZONE
BEGIN:VEVENT
DTSTART;TZID=UTC:20260311T140000
DTEND;TZID=UTC:20260311T150000
DTSTAMP:20260423T191343
CREATED:20260224T004323Z
LAST-MODIFIED:20260224T004323Z
UID:113976-1773237600-1773241200@movingseniorsforward.org
SUMMARY:Pedaling the Planet - VR Cycling
DESCRIPTION:It’s virtual reality meets cycling in the first half of this introductory VR class\, which incorporates desk cycles\, so it feels like you’re truly outdoors biking. And the best part is you’re not alone! Join three others in races across the different landscapes while safely seated. Pop balloons that appear in front of you as you make your way down the trail improving your hand-eye coordination and thinking skills. Enjoy the experience and the beauty of this virtual outdoor space while getting some exercise. In the second half\, showcase your artistic skills as you paint on an infinite canvas. Meet 2-3 p.m. Wednesday\, March 11 at 3639 Las Posas Road in Camarillo. Call 805-388-1952 to register.
URL:https://movingseniorsforward.org/event/pedaling-the-planet-vr-cycling/
LOCATION:Camarillo Health Care District\, 3639 Las Posas Road\, Camarillo\, CA\, 93010\, United States
CATEGORIES:digital literacy,Exercise,Health and wellness,Virtual Reality
ORGANIZER;CN="Camarillo Health Care District":MAILTO:micheller@camhealth.com
END:VEVENT
END:VCALENDAR