BEGIN:VCALENDAR
VERSION:2.0
PRODID:-//Moving Seniors Forward - ECPv6.15.3//NONSGML v1.0//EN
CALSCALE:GREGORIAN
METHOD:PUBLISH
X-WR-CALNAME:Moving Seniors Forward
X-ORIGINAL-URL:https://movingseniorsforward.org
X-WR-CALDESC:Events for Moving Seniors Forward
REFRESH-INTERVAL;VALUE=DURATION:PT1H
X-Robots-Tag:noindex
X-PUBLISHED-TTL:PT1H
BEGIN:VTIMEZONE
TZID:UTC
BEGIN:STANDARD
TZOFFSETFROM:+0000
TZOFFSETTO:+0000
TZNAME:UTC
DTSTART:20250101T000000
END:STANDARD
END:VTIMEZONE
BEGIN:VEVENT
DTSTART;TZID=UTC:20251106T180000
DTEND;TZID=UTC:20251106T190000
DTSTAMP:20260423T221017
CREATED:20251003T225555Z
LAST-MODIFIED:20251003T225555Z
UID:113836-1762452000-1762455600@movingseniorsforward.org
SUMMARY:Stories from the Heart show
DESCRIPTION:Join Camarillo Health Care District 6-7 p.m. on Nov. 6 at Camarillo Public Library\, 4101 Las Posas Road\, for an evening of storytelling. A live version of the District’s podcast\, “Stories from the Heart: Inspiring Tales of Life\, Love and Learning\,” will be emceed by Michelle Rogers\, the District’s Community Services manager\, formerly of USA TODAY’s Storytellers Project. Admission is free\, but registration is required. Call 805-388-1952 to reserve your seat.
URL:https://movingseniorsforward.org/event/stories-from-the-heart-show/
LOCATION:Camarillo Public Library\, 4101 Las Posas Road\, Camarillo\, CA\, 93010\, United States
CATEGORIES:Caregiving,Health and wellness,Mental health
ORGANIZER;CN="Camarillo Health Care District":MAILTO:micheller@camhealth.com
END:VEVENT
END:VCALENDAR