BEGIN:VCALENDAR
VERSION:2.0
PRODID:-//Moving Seniors Forward - ECPv6.15.3//NONSGML v1.0//EN
CALSCALE:GREGORIAN
METHOD:PUBLISH
X-ORIGINAL-URL:https://movingseniorsforward.org
X-WR-CALDESC:Events for Moving Seniors Forward
REFRESH-INTERVAL;VALUE=DURATION:PT1H
X-Robots-Tag:noindex
X-PUBLISHED-TTL:PT1H
BEGIN:VTIMEZONE
TZID:UTC
BEGIN:STANDARD
TZOFFSETFROM:+0000
TZOFFSETTO:+0000
TZNAME:UTC
DTSTART:20250101T000000
END:STANDARD
END:VTIMEZONE
BEGIN:VEVENT
DTSTART;TZID=UTC:20250805T090000
DTEND;TZID=UTC:20250805T100000
DTSTAMP:20260424T090616
CREATED:20250714T232741Z
LAST-MODIFIED:20250714T232741Z
UID:113727-1754384400-1754388000@movingseniorsforward.org
SUMMARY:Gentle Yoga
DESCRIPTION:Join instructor Mikal Rogers for Yoga-Gentle. Health benefits include improved flexibility\, muscle tone and stress alleviation. \nClasses meet in 10-week sessions or you may join as a drop-in at a special rate at Camarillo Health Care District\, 3639 Las Posas Road\, Camarillo. \nCall 805-388-1952 for more information or to register. \nCurrently\, drop-in is available on Mondays\, 3:45-4:45 p.m.\, and Tuesdays\, 9-10 a.m. \nNEW SESSION \nTuesdays\, Aug. 5-Oct. 7\, 9-10 a.m. \nCall 805-388-1952 to register. Cost is $80 for the 10-week series or $15 for drop-in. The class is held on our campus\, 3639 Las Posas Road\, in Camarillo.
URL:https://movingseniorsforward.org/event/gentle-yoga-6/
LOCATION:CA
CATEGORIES:Classes,Exercise,Yoga classes
ORGANIZER;CN="Camarillo Health Care District":MAILTO:micheller@camhealth.com
END:VEVENT
END:VCALENDAR