BEGIN:VCALENDAR
VERSION:2.0
PRODID:-//Moving Seniors Forward - ECPv6.15.3//NONSGML v1.0//EN
CALSCALE:GREGORIAN
METHOD:PUBLISH
X-WR-CALNAME:Moving Seniors Forward
X-ORIGINAL-URL:https://movingseniorsforward.org
X-WR-CALDESC:Events for Moving Seniors Forward
REFRESH-INTERVAL;VALUE=DURATION:PT1H
X-Robots-Tag:noindex
X-PUBLISHED-TTL:PT1H
BEGIN:VTIMEZONE
TZID:UTC
BEGIN:STANDARD
TZOFFSETFROM:+0000
TZOFFSETTO:+0000
TZNAME:UTC
DTSTART:20260101T000000
END:STANDARD
END:VTIMEZONE
BEGIN:VEVENT
DTSTART;TZID=UTC:20260519T100000
DTEND;TZID=UTC:20260519T113000
DTSTAMP:20260423T160129
CREATED:20260421T214537Z
LAST-MODIFIED:20260421T214537Z
UID:114087-1779184800-1779190200@movingseniorsforward.org
SUMMARY:iPhone Tips & Tricks
DESCRIPTION:If you have an iPhone and want to learn  some tips and tricks on how to better utilize its features\, register for this 75-minute class that will cover downloading applications\, streaming music\, finding and listening to podcasts\, storing and sharing documents\, signing a document\, scanning a QR code\, blocking phone numbers and reporting spam calls\, conference calling\, FaceTime\, use of emojis (and what they mean)\, and how to respond to texts with gifs\, emojis and adding effects to emojis (screen takeover/echo\, spotlight\, balloons\, confetti\, love\, lasers\, fireworks\, celebration; or slam\, loud\, gentle and invisible ink). The class also will include a 15-minute AMA (Ask Me Anything). \nTuesday\, May 19\, 10-11:30 a.m. \nCost is $10 (non-District residents add $4) \nRegister: 805-388-1952.  The class is held on our campus\, 3639 Las Posas Road\, Suite 117\, in Camarillo.
URL:https://movingseniorsforward.org/event/iphone-tips-tricks/
LOCATION:Camarillo Health Care District\, 3639 Las Posas Road\, Camarillo\, CA\, 93010\, United States
CATEGORIES:Classes,digital literacy,education
ORGANIZER;CN="Camarillo Health Care District":MAILTO:micheller@camhealth.com
END:VEVENT
END:VCALENDAR