BEGIN:VCALENDAR
VERSION:2.0
PRODID:-//Moving Seniors Forward - ECPv6.15.3//NONSGML v1.0//EN
CALSCALE:GREGORIAN
METHOD:PUBLISH
X-ORIGINAL-URL:https://movingseniorsforward.org
X-WR-CALDESC:Events for Moving Seniors Forward
REFRESH-INTERVAL;VALUE=DURATION:PT1H
X-Robots-Tag:noindex
X-PUBLISHED-TTL:PT1H
BEGIN:VTIMEZONE
TZID:UTC
BEGIN:STANDARD
TZOFFSETFROM:+0000
TZOFFSETTO:+0000
TZNAME:UTC
DTSTART:20260101T000000
END:STANDARD
END:VTIMEZONE
BEGIN:VEVENT
DTSTART;TZID=UTC:20260212T100000
DTEND;TZID=UTC:20260212T110000
DTSTAMP:20260423T160739
CREATED:20260211T175621Z
LAST-MODIFIED:20260211T175621Z
UID:113935-1770890400-1770894000@movingseniorsforward.org
SUMMARY:Pedaling the Planet VR
DESCRIPTION:It’s virtual reality meets cycling in the first half of this introductory VR class\, which incorporates desk cycles\, so it feels like you’re truly outdoors biking. And the best part is you’re not alone! Join three others in races across the different landscapes while safely seated. Pop balloons that appear in front of you as you make your way down the trail improving your hand-eye coordination and thinking skills. Enjoy the experience and the beauty of this virtual outdoor space while getting some exercise. In the second half\, showcase your artistic skills as you paint on an infinite canvas. Meet 10-11 a.m. Thursday\, Feb. 12 at 3639 Las Posas Road in Camarillo. Call 805-388-1952 to register.
URL:https://movingseniorsforward.org/event/pedaling-the-planet-vr/
LOCATION:Camarillo Health Care District\, 3639 Las Posas Road\, Camarillo\, CA\, 93010\, United States
CATEGORIES:Classes,education,Virtual Reality
ORGANIZER;CN="Camarillo Health Care District":MAILTO:micheller@camhealth.com
END:VEVENT
BEGIN:VEVENT
DTSTART;TZID=UTC:20260212T140000
DTEND;TZID=UTC:20260212T150000
DTSTAMP:20260423T160739
CREATED:20260211T175411Z
LAST-MODIFIED:20260211T175411Z
UID:113933-1770904800-1770908400@movingseniorsforward.org
SUMMARY:Watch Party and Conversation
DESCRIPTION:What’s the secret to a longer more fulfilling life? \nFilmmaker Chris Kondo\, a member of the Emeriti and Osher Lifelong Learning Institute at CSU Fullerton\, explores that question in “The Longevity Diaries: About Aging Gracefully\,” now available on YouTube. \nThe 25-minute documentary features Camarillo Health Care District CEO Blair Barker (in her former role as Care Services Director) alongside gerontology experts from CSU Fullerton and CSU Long Beach. Focusing on five remarkable individuals\, ages 81 to 103\, the film examines the habits and mindsets that promote living long and living well. \nThe District will host two watch parties with a conversation facilitated by Barker: \nThursday\, Feb. 12\, 2-3 p.m. \nThe film highlights key elements of longevity: adaptability\, stress management\, healthy diet\, regular exercise\, friendship\, and lifelong learning. \nCall 805-388-1952 to register. Cost is $10 (out-of-District residents add $4). The watch party will be held on our campus\, 3639 Las Posas Road\, in Camarillo.
URL:https://movingseniorsforward.org/event/watch-party-and-conversation/
LOCATION:Camarillo Health Care District\, 3639 Las Posas Road\, Camarillo\, CA\, 93010\, United States
CATEGORIES:Classes,education
ORGANIZER;CN="Camarillo Health Care District":MAILTO:micheller@camhealth.com
END:VEVENT
END:VCALENDAR