BEGIN:VCALENDAR
VERSION:2.0
PRODID:-//Moving Seniors Forward - ECPv6.15.3//NONSGML v1.0//EN
CALSCALE:GREGORIAN
METHOD:PUBLISH
X-ORIGINAL-URL:https://movingseniorsforward.org
X-WR-CALDESC:Events for Moving Seniors Forward
REFRESH-INTERVAL;VALUE=DURATION:PT1H
X-Robots-Tag:noindex
X-PUBLISHED-TTL:PT1H
BEGIN:VTIMEZONE
TZID:UTC
BEGIN:STANDARD
TZOFFSETFROM:+0000
TZOFFSETTO:+0000
TZNAME:UTC
DTSTART:20250101T000000
END:STANDARD
END:VTIMEZONE
BEGIN:VEVENT
DTSTART;TZID=UTC:20251010T133000
DTEND;TZID=UTC:20251010T150000
DTSTAMP:20260423T220619
CREATED:20251003T230220Z
LAST-MODIFIED:20251003T230220Z
UID:113841-1760103000-1760108400@movingseniorsforward.org
SUMMARY:2026 Medicare Changes Presentation
DESCRIPTION:Join the Health Insurance Counseling and Advocacy program (HICAP)\, part of the Ventura County Area Agency on Aging (VCAAA) for a presentation on changes to Medicare in 2026 1:30-3 p.m. Oct. 10. The talk will be held at Camarillo Health Care District\, 3639 Las Posas Road\,  Building F\, Sequoia Rooms\, in Camarillo. For more information\, call 805-477-7300.
URL:https://movingseniorsforward.org/event/2026-medicare-changes-presentation/
LOCATION:Camarillo Health Care District\, 3639 Las Posas Road\, Camarillo\, CA\, 93010\, United States
CATEGORIES:HICAP,Medicare counseling,Medicare presentation
ORGANIZER;CN="Camarillo Health Care District":MAILTO:micheller@camhealth.com
END:VEVENT
END:VCALENDAR