BEGIN:VCALENDAR
VERSION:2.0
PRODID:-//Moving Seniors Forward - ECPv6.15.3//NONSGML v1.0//EN
CALSCALE:GREGORIAN
METHOD:PUBLISH
X-WR-CALNAME:Moving Seniors Forward
X-ORIGINAL-URL:https://movingseniorsforward.org
X-WR-CALDESC:Events for Moving Seniors Forward
REFRESH-INTERVAL;VALUE=DURATION:PT1H
X-Robots-Tag:noindex
X-PUBLISHED-TTL:PT1H
BEGIN:VTIMEZONE
TZID:UTC
BEGIN:STANDARD
TZOFFSETFROM:+0000
TZOFFSETTO:+0000
TZNAME:UTC
DTSTART:20250101T000000
END:STANDARD
END:VTIMEZONE
BEGIN:VEVENT
DTSTART;TZID=UTC:20250711T093000
DTEND;TZID=UTC:20250711T110000
DTSTAMP:20260424T024400
CREATED:20250626T184819Z
LAST-MODIFIED:20250626T184819Z
UID:113705-1752226200-1752231600@movingseniorsforward.org
SUMMARY:Caregiver Support Group
DESCRIPTION:The Caregivers Support Group is intended for those who are on the journey with a parent\, spouse\, friend\, neighbor and others\, who have a chronic condition requiring care such as dementia\, Parkinson’s\, or other illnesses. \nThe group meets on the second and fourth Friday of each month from 9:30am-11am (Currently Virtual Only) \nCall (800)900-8582 to sign up.
URL:https://movingseniorsforward.org/event/caregiver-support-group-9/
LOCATION:Virtual
CATEGORIES:Caregiver Support Group
ORGANIZER;CN="Camarillo Health Care District":MAILTO:micheller@camhealth.com
END:VEVENT
END:VCALENDAR