BEGIN:VCALENDAR
VERSION:2.0
PRODID:-//Moving Seniors Forward - ECPv6.15.3//NONSGML v1.0//EN
CALSCALE:GREGORIAN
METHOD:PUBLISH
X-ORIGINAL-URL:https://movingseniorsforward.org
X-WR-CALDESC:Events for Moving Seniors Forward
REFRESH-INTERVAL;VALUE=DURATION:PT1H
X-Robots-Tag:noindex
X-PUBLISHED-TTL:PT1H
BEGIN:VTIMEZONE
TZID:UTC
BEGIN:STANDARD
TZOFFSETFROM:+0000
TZOFFSETTO:+0000
TZNAME:UTC
DTSTART:20250101T000000
END:STANDARD
END:VTIMEZONE
BEGIN:VEVENT
DTSTART;TZID=UTC:20250523T133000
DTEND;TZID=UTC:20250523T150000
DTSTAMP:20260424T085425
CREATED:20250415T225641Z
LAST-MODIFIED:20250415T225641Z
UID:113630-1748007000-1748012400@movingseniorsforward.org
SUMMARY:Presentation: New to Medicare? Turning 65 or Retiring?
DESCRIPTION:Join the Health Insurance Counseling and Advocacy program (HICAP)\, part of the Ventura County Area Agency on Aging (VCAAA) for a presentation 1:30-3 p.m. May 23 on “New to Medicare: Turning 65 or Retiring?” The talk will be held at Camarillo Health Care District\, 3639 Las Posas Road\,  Building F\, Sequoia Rooms\, in Camarillo. For more information\, call 805-477-7300.
URL:https://movingseniorsforward.org/event/presentation-new-to-medicare-turning-65-or-retiring/
LOCATION:Camarillo Health Care District\, 3639 Las Posas Road\, Camarillo\, CA\, 93010\, United States
CATEGORIES:HICAP,Medicare counseling
ORGANIZER;CN="Camarillo Health Care District":MAILTO:micheller@camhealth.com
END:VEVENT
END:VCALENDAR