BEGIN:VCALENDAR
VERSION:2.0
PRODID:-//Moving Seniors Forward - ECPv6.15.3//NONSGML v1.0//EN
CALSCALE:GREGORIAN
METHOD:PUBLISH
X-WR-CALNAME:Moving Seniors Forward
X-ORIGINAL-URL:https://movingseniorsforward.org
X-WR-CALDESC:Events for Moving Seniors Forward
REFRESH-INTERVAL;VALUE=DURATION:PT1H
X-Robots-Tag:noindex
X-PUBLISHED-TTL:PT1H
BEGIN:VTIMEZONE
TZID:UTC
BEGIN:STANDARD
TZOFFSETFROM:+0000
TZOFFSETTO:+0000
TZNAME:UTC
DTSTART:20250101T000000
END:STANDARD
END:VTIMEZONE
BEGIN:VEVENT
DTSTART;TZID=UTC:20250424T120000
DTEND;TZID=UTC:20250424T133000
DTSTAMP:20260424T090007
CREATED:20250129T210130Z
LAST-MODIFIED:20250129T210130Z
UID:113552-1745496000-1745501400@movingseniorsforward.org
SUMMARY:MSF Monthly Meeting
DESCRIPTION:Members of Moving Seniors Forward\, a community resource group focused on seniors\, meet monthly at noon at various locations. The agenda includes announcements; a one-minute testimonial\, greeting or information about members’ work; member spotlights; and miscellaneous housekeeping items\, including participation in community events. To inquire about group membership\, email movingseniorsforward.org or request a current member to invite you as a guest to one of our meetings.
URL:https://movingseniorsforward.org/event/msf-monthly-meeting-3/
LOCATION:CA
CATEGORIES:Moving Seniors Forward meeting
ORGANIZER;CN="Moving Seniors Forward":MAILTO:movingseniorsforward.org
END:VEVENT
END:VCALENDAR