BEGIN:VCALENDAR
VERSION:2.0
PRODID:-//Moving Seniors Forward - ECPv6.15.3//NONSGML v1.0//EN
CALSCALE:GREGORIAN
METHOD:PUBLISH
X-WR-CALNAME:Moving Seniors Forward
X-ORIGINAL-URL:https://movingseniorsforward.org
X-WR-CALDESC:Events for Moving Seniors Forward
REFRESH-INTERVAL;VALUE=DURATION:PT1H
X-Robots-Tag:noindex
X-PUBLISHED-TTL:PT1H
BEGIN:VTIMEZONE
TZID:UTC
BEGIN:STANDARD
TZOFFSETFROM:+0000
TZOFFSETTO:+0000
TZNAME:UTC
DTSTART:20250101T000000
END:STANDARD
END:VTIMEZONE
BEGIN:VEVENT
DTSTART;TZID=UTC:20250321T090000
DTEND;TZID=UTC:20250321T120000
DTSTAMP:20260424T143650
CREATED:20241209T212158Z
LAST-MODIFIED:20241209T212158Z
UID:113427-1742547600-1742558400@movingseniorsforward.org
SUMMARY:Depression and Caregiver Well-Being Screening
DESCRIPTION:It is well-documented that long-term\, unrelieved caregiving duties\, especially when caring for loved ones with dementia\, can have negative impacts on the health\, personal\, social and/or financial well-being of the caregiver. Depression and a sense a well-being become significant factors to evaluate. \nThe Caregiver Center utilizes the Zarit Burden Interview to assess a caregiver’s perception of “burden” to see if those areas are being affected\, with a focus on depression\, mental health\, negative affect\, social support\, stress and coping (American Psychological Association)\, as well as the PHQ-9 Depression Screening tool. \nThe PHQ-9 is a “multipurpose instrument for screening\, diagnosing\, monitoring and measuring the severity of depression” (National Institute of Health)\, and utilizes a brief self-report tool. The tool rates the frequency of symptoms which factors in the scoring severity index. \nCamarillo Health Care District’s use and/or results of the PHQ-9 is not a diagnosis. It is outside of the District’s scope to diagnose. Self-reported answers indicate scores that can be measured against the categories listed on the tool\, with further description. It’s imperative that you consult your physician for symptoms of depression. We currently have two offerings. \nFriday\, March 21\, 9 a.m.-12 p.m. l in one-hour blocks l A l NC \nCall 800-900-8582 for an appointment.
URL:https://movingseniorsforward.org/event/depression-and-caregiver-well-being-screening-3/
LOCATION:Camarillo Health Care District\, 3639 Las Posas Road\, Camarillo\, CA\, 93010\, United States
CATEGORIES:Caregiving,Mental health
ORGANIZER;CN="Camarillo Health Care District":MAILTO:micheller@camhealth.com
END:VEVENT
END:VCALENDAR