BEGIN:VCALENDAR
VERSION:2.0
PRODID:-//Moving Seniors Forward - ECPv6.15.3//NONSGML v1.0//EN
CALSCALE:GREGORIAN
METHOD:PUBLISH
X-WR-CALNAME:Moving Seniors Forward
X-ORIGINAL-URL:https://movingseniorsforward.org
X-WR-CALDESC:Events for Moving Seniors Forward
REFRESH-INTERVAL;VALUE=DURATION:PT1H
X-Robots-Tag:noindex
X-PUBLISHED-TTL:PT1H
BEGIN:VTIMEZONE
TZID:UTC
BEGIN:STANDARD
TZOFFSETFROM:+0000
TZOFFSETTO:+0000
TZNAME:UTC
DTSTART:20250101T000000
END:STANDARD
END:VTIMEZONE
BEGIN:VEVENT
DTSTART;TZID=UTC:20250213T130000
DTEND;TZID=UTC:20250213T143000
DTSTAMP:20260424T143355
CREATED:20241218T183244Z
LAST-MODIFIED:20241218T183244Z
UID:113457-1739451600-1739457000@movingseniorsforward.org
SUMMARY:Adventures in Virtual Reality (travel)
DESCRIPTION:Visit the 7 Wonders of the World in VR: The Colosseum in Rome; The Great Wall of China\, the Taj Mahal in India; Christ the Redeemer in Brazil; Machu Picchu\, Peru; Chichen Itza\, Mexico; and Petra\, Jordan.  This is an intermediate class. You must have taken the introductory class “Nature Treks” or “Ocean Rift” to join. Document our travel adventures in our Adventures in VR passport. Call 805-388-1952 to register. \nCost: $10 (non-district residents add $4)
URL:https://movingseniorsforward.org/event/adventures-in-virtual-reality-travel/
LOCATION:Camarillo Health Care District\, 3639 Las Posas Road\, Camarillo\, CA\, 93010\, United States
CATEGORIES:Mental health
ORGANIZER;CN="Camarillo Health Care District":MAILTO:micheller@camhealth.com
END:VEVENT
END:VCALENDAR