BEGIN:VCALENDAR
VERSION:2.0
PRODID:-//Moving Seniors Forward - ECPv6.15.3//NONSGML v1.0//EN
CALSCALE:GREGORIAN
METHOD:PUBLISH
X-ORIGINAL-URL:https://movingseniorsforward.org
X-WR-CALDESC:Events for Moving Seniors Forward
REFRESH-INTERVAL;VALUE=DURATION:PT1H
X-Robots-Tag:noindex
X-PUBLISHED-TTL:PT1H
BEGIN:VTIMEZONE
TZID:UTC
BEGIN:STANDARD
TZOFFSETFROM:+0000
TZOFFSETTO:+0000
TZNAME:UTC
DTSTART:20250101T000000
END:STANDARD
END:VTIMEZONE
BEGIN:VEVENT
DTSTART;TZID=UTC:20250131T090000
DTEND;TZID=UTC:20250131T110000
DTSTAMP:20260424T142754
CREATED:20241209T211608Z
LAST-MODIFIED:20241209T211701Z
UID:113423-1738314000-1738321200@movingseniorsforward.org
SUMMARY:Dementia Live
DESCRIPTION:Dementia Live is a high impact\, dementia simulation experience that immerses participants into life with dementia\, resulting in a deeper understanding of what it’s like to live with cognitive impairment and sensory change. Participants are outfitted in specialized gear and given a series of tasks to perform. The challenges and struggles one faces become very real to the participant\, triggering heightened empathy and understanding\, creating a catalyst for meaningful communication and improving quality of care. We currently have three offerings. \nFriday\, Jan. 31\, between 9 a.m. and noon (1-hour long; sign up for 9\, 10 or 11 a.m.) \nPlease register in advance by calling 800-900-8582. There is no charge.
URL:https://movingseniorsforward.org/event/dementia-live-2/
LOCATION:Camarillo Health Care District\, 3639 Las Posas Road\, Camarillo\, CA\, 93010\, United States
CATEGORIES:Caregiving,Classes,Dementia
ORGANIZER;CN="Camarillo Health Care District":MAILTO:micheller@camhealth.com
END:VEVENT
BEGIN:VEVENT
DTSTART;TZID=UTC:20250131T103000
DTEND;TZID=UTC:20250131T120000
DTSTAMP:20260424T142754
CREATED:20241218T183933Z
LAST-MODIFIED:20241218T183933Z
UID:113459-1738319400-1738324800@movingseniorsforward.org
SUMMARY:VR Travel Club
DESCRIPTION:Sign up for Camarillo Health Care District’s new VR Travel Club and you’ll become a member of a core group that meets regularly for six weeks exploring the world together. Each week is something different\, from adventures in Asia\, Europe and popular U.S. destinations\, to Cuba and North Africa\, South America and other places around the globe. Because these travel adventures are based on actual video\, this 3-D experience makes you feel as if you’re really there. Over the six weeks\, you’ll get to know your travel companions. Each travel group will come up with its own name. The group decides! Maybe it’s Wanderlust\, Nomads or TSA-Free. You’ll wear a lanyard with your group photo and club name as you create memories that connect you. After Week 1\, bring your own snacks for a post-experience Snack & Chat with your new friends. Call 805-388-1952 to register or join an interest list.
URL:https://movingseniorsforward.org/event/vr-travel-club/
LOCATION:Camarillo Health Care District\, 3639 Las Posas Road\, Camarillo\, CA\, 93010\, United States
CATEGORIES:Mental health
ORGANIZER;CN="Camarillo Health Care District":MAILTO:micheller@camhealth.com
END:VEVENT
END:VCALENDAR