BEGIN:VCALENDAR
VERSION:2.0
PRODID:-//Moving Seniors Forward - ECPv6.15.3//NONSGML v1.0//EN
CALSCALE:GREGORIAN
METHOD:PUBLISH
X-ORIGINAL-URL:https://movingseniorsforward.org
X-WR-CALDESC:Events for Moving Seniors Forward
REFRESH-INTERVAL;VALUE=DURATION:PT1H
X-Robots-Tag:noindex
X-PUBLISHED-TTL:PT1H
BEGIN:VTIMEZONE
TZID:UTC
BEGIN:STANDARD
TZOFFSETFROM:+0000
TZOFFSETTO:+0000
TZNAME:UTC
DTSTART:20250101T000000
END:STANDARD
END:VTIMEZONE
BEGIN:VEVENT
DTSTART;TZID=UTC:20250130T140000
DTEND;TZID=UTC:20250130T151500
DTSTAMP:20260424T142703
CREATED:20241218T182550Z
LAST-MODIFIED:20241218T182550Z
UID:113451-1738245600-1738250100@movingseniorsforward.org
SUMMARY:Adventures in Virtual Reality (cycling)
DESCRIPTION:It’s off to the races in the first half of this introductory VR class\, which incorporates desk cycles\, so it feels like you’re truly outdoors biking. And the best part is you’re not alone! Join three others in races across the different landscapes while safely seated. Pop balloons that appear in front of you as you make your way down the trail improving your hand-eye coordination and thinking skills. Enjoy the experience and the beauty of this virtual outdoor space while getting some exercise. In the second half\, showcase your artistic skills as you paint on an infinite canvas. \nCost: $5 (non-district residents add $4) \nCall 805-388-1952 to register for one of these classes and/or be added to a interest list.
URL:https://movingseniorsforward.org/event/adventures-in-virtual-reality-cycling-2/
LOCATION:Camarillo Health Care District\, 3639 Las Posas Road\, Camarillo\, CA\, 93010\, United States
CATEGORIES:Mental health
ORGANIZER;CN="Camarillo Health Care District":MAILTO:micheller@camhealth.com
END:VEVENT
END:VCALENDAR